BEGIN:VCALENDAR
VERSION:2.0
PRODID:-//ChamberMaster//Event Calendar 2.0//EN
METHOD:PUBLISH
X-PUBLISHED-TTL:P3D
REFRESH-INTERVAL:P3D
CALSCALE:GREGORIAN
BEGIN:VEVENT
DTSTART:20250429T220000Z
DTEND:20250430T000000Z
X-MICROSOFT-CDO-ALLDAYEVENT:FALSE
SUMMARY:Youth for Christ Open House
DESCRIPTION:April 29 is our 3rd annual Open House at Youth for Christ!\n\nAll are welcome! Come see what YFC is all about.\n\nFrom 5 to 7 pm\, we will be serving hamburgers\, hot dogs\, and brats\, offering tours of our facility\, and chatting with anyone who would like to.\n\nInvite your friends\, and we hope to see you there!\n\n\n\nYouth for Christ is a multi-national non-profit organization that seeks to reach\n\nevery young person with the amazing news of Jesus Christ. The Western Illinois chapter of YFC has sites in Macomb and Bushnell\, with weekly programs for both Middle School and High School students.\n\nWe welcome all teens to come check it out!
X-ALT-DESC;FMTTYPE=text/html:April 29 is our 3rd annual Open House at Youth for Christ!<br />\nAll are welcome! Come see what YFC is all about.<br />\nFrom 5 to 7 pm\, we will be serving hamburgers\, hot dogs\, and brats\, offering tours of our facility\, and chatting with anyone who would like to.<br />\nInvite your friends\, and we hope to see you there!<br />\n<br />\nYouth for Christ is a multi-national non-profit organization that seeks to reach<br />\nevery young person with the amazing news of Jesus Christ. The Western Illinois chapter of YFC has sites in Macomb and Bushnell\, with weekly programs for both Middle School and High School students.<br />\nWe welcome all teens to come check it out!<br />\n&nbsp\;
LOCATION:1224 Maple Ave. Macomb\, IL 61455
UID:e.2125.18844
SEQUENCE:3
DTSTAMP:20260420T113602Z
URL:https://business.macombareachamber.com/events/details/youth-for-christ-open-house-18844
END:VEVENT

END:VCALENDAR
