BEGIN:VCALENDAR
VERSION:2.0
PRODID:-//ChamberMaster//Event Calendar 2.0//EN
METHOD:PUBLISH
X-PUBLISHED-TTL:P3D
REFRESH-INTERVAL:P3D
CALSCALE:GREGORIAN
BEGIN:VEVENT
DTSTART;VALUE=DATE:20250606
DTEND;VALUE=DATE:20250607
TRANSP:TRANSPARENT
X-MICROSOFT-CDO-ALLDAYEVENT:TRUE
SUMMARY:Youth for Christ Golf Outing
DESCRIPTION:YOUTH FOR CHRIST\n\nWESTERN ILLINOIS\n\n\n\nGolf Outing\n\nINCLUDES A CHANCE TO WIN $10\,000!!!\n\n\n\n   Friday\, June 6\, 2025\n\n  Harry Mussatto Golf Course\n\n\n\nRegistration & Lunch @ 10:30 am\n\n\n\nShotgun Start @ 12 pm\n\n\n\nEntries Due May 23\, 2025\n\n\n\nPlay as an individual   $90\n\nOr bring a foursome   $360\n\nIncludes Lunch\, Snacks\, Drinks\, Cart Rental\, & Prizes!\n\n\n\nRegister Now!\n\n  yfcwi.org/golf\n\n  (309) 333-6186\n\n  (309) 833-3026\n\n\n\nA Big Thank You to both of our Title Sponsors!\n\nProfessional EyeCare Center\n\n"Professional Attention Your Eyes Deserve"\n\nCPI   Collection Professionals\, Inc.\n\n\n\n  Sponsor commitments are appreciated by May 9\, 2025\n\n  We Love In-Kind Donations!
X-ALT-DESC;FMTTYPE=text/html:YOUTH FOR CHRIST<br />\nWESTERN ILLINOIS<br />\n<br />\nGolf Outing<br />\nINCLUDES A CHANCE TO WIN $10\,000!!!<br />\n<br />\n&#128467\;&#65039\; Friday\, June 6\, 2025<br />\n&#128205\; Harry Mussatto Golf Course<br />\n<br />\nRegistration &amp\; Lunch @ 10:30 am<br />\n<br />\nShotgun Start @ 12 pm<br />\n<br />\nEntries Due May 23\, 2025<br />\n<br />\nPlay as an individual &ndash\; $90<br />\nOr bring a foursome &ndash\; $360<br />\nIncludes Lunch\, Snacks\, Drinks\, Cart Rental\, &amp\; Prizes!<br />\n<br />\nRegister Now!<br />\n&#127760\; yfcwi.org/golf<br />\n&#128222\; (309) 333-6186<br />\n&#128222\; (309) 833-3026<br />\n<br />\nA Big Thank You to both of our Title Sponsors!<br />\nProfessional EyeCare Center<br />\n&ldquo\;Professional Attention Your Eyes Deserve&rdquo\;<br />\nCPI &ndash\; Collection Professionals\, Inc.<br />\n<br />\n&#128197\; Sponsor commitments are appreciated by May 9\, 2025<br />\n&#128155\; We Love In-Kind Donations!
LOCATION:
UID:e.2125.18851
SEQUENCE:3
DTSTAMP:20260420T083228Z
URL:https://business.macombareachamber.com/events/details/youth-for-christ-golf-outing-18851
END:VEVENT

END:VCALENDAR
