BEGIN:VCALENDAR
VERSION:2.0
PRODID:-//ChamberMaster//Event Calendar 2.0//EN
METHOD:PUBLISH
X-PUBLISHED-TTL:P3D
REFRESH-INTERVAL:P3D
CALSCALE:GREGORIAN
BEGIN:VEVENT
DTSTART:20220716T153000Z
DTEND:20220716T170000Z
X-MICROSOFT-CDO-ALLDAYEVENT:FALSE
SUMMARY:Yoga & Beer
DESCRIPTION:Join us in the taproom Saturday\, July 16th\n\nfrom 10:30 am - 12:00 pm for yoga\, followed by a drink.\n\nThe cost is $20 and can be purchased at Forgottonia Brewing or online. This includes the Yoga instruction and one beverage at Forgottonia Brewing.\n\nThe maximum number of participants is 20 so get your tickets now!\n\nThe All-Levels Yoga class is provided by Dawn Piper\, a certified Yoga Teacher and Yoga Therapist\, and owner of Free Range Yoga and Community Wellness Center. You'll enjoy a thorough warm-up\, some flowing Sun Salutations (modified or full)\, work to strengthen glutes and abs\, balance work (before the beer!)\, deep stretches (hamstrings and quads tight anyone?!)\, plus a relaxing cool down\, and deep breathing. All of that and then we top it off with a refreshing beverage!\n\nBring a yoga mat\, beach towel or blanket\, water\, and any props you'd like. Blocks and a strap are handy if you have them.
X-ALT-DESC;FMTTYPE=text/html:<div class="kvgmc6g5 cxmmr5t8 oygrvhab hcukyx3x c1et5uql" style="overflow-wrap: break-word\; margin: 0px\; font-family: &quot\;Segoe UI Historic&quot\;\, &quot\;Segoe UI&quot\;\, Helvetica\, Arial\, sans-serif\; color: rgb(5\, 5\, 5)\; font-size: 15px\;"><span style="font-size:14px\;"><span style="font-family:arial\;">Join us in the taproom Saturday\, July 16th<br />\nfrom 10:30 am - 12:00 pm for yoga\, followed by a drink.</span></span></div>\n\n<div class="cxmmr5t8 oygrvhab hcukyx3x c1et5uql o9v6fnle" style="overflow-wrap: break-word\; margin: 0.5em 0px 0px\; font-family: &quot\;Segoe UI Historic&quot\;\, &quot\;Segoe UI&quot\;\, Helvetica\, Arial\, sans-serif\; color: rgb(5\, 5\, 5)\; font-size: 15px\;"><span style="font-size:14px\;"><span style="font-family:arial\;">The cost is $20 and can be purchased at Forgottonia Brewing or online. This includes the Yoga instruction and one beverage at Forgottonia Brewing.</span></span></div>\n\n<div class="cxmmr5t8 oygrvhab hcukyx3x c1et5uql o9v6fnle" style="overflow-wrap: break-word\; margin: 0.5em 0px 0px\; font-family: &quot\;Segoe UI Historic&quot\;\, &quot\;Segoe UI&quot\;\, Helvetica\, Arial\, sans-serif\; color: rgb(5\, 5\, 5)\; font-size: 15px\;"><span style="font-size:14px\;"><span style="font-family:arial\;">The maximum number of participants is 20 so get your tickets now</span></span>!\n\n<div class="cxmmr5t8 oygrvhab hcukyx3x c1et5uql o9v6fnle" style="overflow-wrap: break-word\; margin: 0.5em 0px 0px\; font-family: &quot\;Segoe UI Historic&quot\;\, &quot\;Segoe UI&quot\;\, Helvetica\, Arial\, sans-serif\; color: rgb(5\, 5\, 5)\; font-size: 15px\;">The All-Levels Yoga class is provided by Dawn Piper\, a certified Yoga Teacher and Yoga Therapist\, and owner of Free Range Yoga and Community Wellness Center. You&#39\;ll enjoy a thorough warm-up\, some flowing Sun Salutations (modified or full)\, work to strengthen glutes and abs\, balance work (before the beer!)\, deep stretches (hamstrings and quads tight anyone?!)\, plus a relaxing cool down\, and deep breathing. All of that and then we top it off with a refreshing beverage!</div>\n\n<div class="cxmmr5t8 oygrvhab hcukyx3x c1et5uql o9v6fnle" style="overflow-wrap: break-word\; margin: 0.5em 0px 0px\; font-family: &quot\;Segoe UI Historic&quot\;\, &quot\;Segoe UI&quot\;\, Helvetica\, Arial\, sans-serif\; color: rgb(5\, 5\, 5)\; font-size: 15px\;">Bring a yoga mat\, beach towel or blanket\, water\, and any props you&#39\;d like. Blocks and a strap are handy if you have them.<br />\n&nbsp\;</div>\n</div>\n
LOCATION:Forgottonia Brewing 324 N. Lafayette St Macomb\, IL 61455
UID:e.2125.9912
SEQUENCE:3
DTSTAMP:20260422T133920Z
URL:https://business.macombareachamber.com/events/details/yoga-beer-9912
END:VEVENT

END:VCALENDAR
