BEGIN:VCALENDAR
VERSION:2.0
PRODID:-//ChamberMaster//Event Calendar 2.0//EN
METHOD:PUBLISH
X-PUBLISHED-TTL:P3D
REFRESH-INTERVAL:P3D
CALSCALE:GREGORIAN
BEGIN:VEVENT
DTSTART:20220719T180000Z
DTEND:20220721T200000Z
X-MICROSOFT-CDO-ALLDAYEVENT:FALSE
SUMMARY:World Chefs- Cooking Camp
DESCRIPTION:From the West to the East\, learn about and create dishes from other cultures.\n\nAges 7 and up\n\n3 Day Camp\n\n$45 for Members/$50 for Non-Members\n\nRegister in person or online at www.discoverydepot.org
X-ALT-DESC;FMTTYPE=text/html:<p>From the West to the East\, learn about and create dishes from other cultures.</p>\n\n<p>Ages 7 and up</p>\n\n<p>3 Day Camp</p>\n\n<p>$45 for Members/$50 for Non-Members</p>\n\n<p>Register in person or online at www.discoverydepot.org</p>\n
LOCATION:Discovery Depot Children's Museum 128 S Chambers St Galesburg\, IL\, 61401
UID:e.2125.8442
SEQUENCE:3
DTSTAMP:20260422T120025Z
URL:https://business.macombareachamber.com/events/details/world-chefs-cooking-camp-8442
END:VEVENT

END:VCALENDAR
