BEGIN:VCALENDAR
VERSION:2.0
PRODID:-//ChamberMaster//Event Calendar 2.0//EN
METHOD:PUBLISH
X-PUBLISHED-TTL:P3D
REFRESH-INTERVAL:P3D
CALSCALE:GREGORIAN
BEGIN:VEVENT
DTSTART:20241001T200000Z
DTEND:20241001T230000Z
X-MICROSOFT-CDO-ALLDAYEVENT:FALSE
SUMMARY:Work Day at Wigwam Hollow Bird Sanctuary
DESCRIPTION:Join the PLC Stewardship Team for our annual workday at Wigwam Hollow Bird Sanctuary. Help us improve habitat for migratory birds and the endangered Indiana bat. All materials are provided and beginners to stewardship work are welcome to come out into the field and learn with us! Just make sure to wear close-toed shoes and long pants as well as bring water.
X-ALT-DESC;FMTTYPE=text/html:Join the PLC Stewardship Team for our annual workday at Wigwam Hollow Bird Sanctuary. Help us improve habitat for migratory birds and the endangered Indiana bat. All materials are provided and beginners to stewardship work are welcome to come out into the field and learn with us! Just make sure to wear close-toed shoes and long pants as well as bring water.&nbsp\;
LOCATION:Wigwam Hollow Bird Sanctuary 1900 Hollow Wigwam Road Macomb\, IL
UID:e.2125.15977
SEQUENCE:3
DTSTAMP:20260422T054826Z
URL:https://business.macombareachamber.com/events/details/work-day-at-wigwam-hollow-bird-sanctuary-15977
END:VEVENT

END:VCALENDAR
