BEGIN:VCALENDAR
VERSION:2.0
PRODID:-//ChamberMaster//Event Calendar 2.0//EN
METHOD:PUBLISH
X-PUBLISHED-TTL:P3D
REFRESH-INTERVAL:P3D
CALSCALE:GREGORIAN
BEGIN:VEVENT
DTSTART:20220918T223000Z
DTEND:20220919T013000Z
X-MICROSOFT-CDO-ALLDAYEVENT:FALSE
SUMMARY:Wood Barn Painting
DESCRIPTION:Come paint a whopping 20 x 20" wood barn with us. Make it in red\, brown\, white whatever color you like. Paint your star in a solid color or multi-color. Make your flowers spring\, summer or fall colors .or maybe just grass. Cost is just $39. Only 12 seats available for this event.\n\nBe watching for ticket link coming soon.
X-ALT-DESC;FMTTYPE=text/html:<span style="color: rgb(5\, 5\, 5)\; font-family: &quot\;Segoe UI Historic&quot\;\, &quot\;Segoe UI&quot\;\, Helvetica\, Arial\, sans-serif\; font-size: 15px\;">Come paint a whopping 20 x 20&rdquo\; wood barn with us. Make it in red\, brown\, white&hellip\;whatever color you like. Paint your star in a solid color or multi-color. Make your flowers spring\, summer or fall colors&hellip\;.or maybe just grass. Cost is just $39. Only 12 seats available for this event.</span><br style="color: rgb(5\, 5\, 5)\; font-family: &quot\;Segoe UI Historic&quot\;\, &quot\;Segoe UI&quot\;\, Helvetica\, Arial\, sans-serif\; font-size: 15px\;" />\n<span style="color: rgb(5\, 5\, 5)\; font-family: &quot\;Segoe UI Historic&quot\;\, &quot\;Segoe UI&quot\;\, Helvetica\, Arial\, sans-serif\; font-size: 15px\;">Be watching for ticket link coming soon.</span><span style="color: rgb(5\, 5\, 5)\; font-family: &quot\;Segoe UI Historic&quot\;\, &quot\;Segoe UI&quot\;\, Helvetica\, Arial\, sans-serif\; font-size: 15px\;">&nbsp\;</span>
LOCATION:206 N Lafayette St\, Macomb\, IL 61455
UID:e.2125.10022
SEQUENCE:3
DTSTAMP:20260423T085239Z
URL:https://business.macombareachamber.com/events/details/wood-barn-painting-10022
END:VEVENT

END:VCALENDAR
