BEGIN:VCALENDAR
VERSION:2.0
PRODID:-//ChamberMaster//Event Calendar 2.0//EN
METHOD:PUBLISH
X-PUBLISHED-TTL:P3D
REFRESH-INTERVAL:P3D
CALSCALE:GREGORIAN
BEGIN:VEVENT
DTSTART:20241005T150000Z
DTEND:20241005T170000Z
X-MICROSOFT-CDO-ALLDAYEVENT:FALSE
SUMMARY:Women's Self Defense Seminar
DESCRIPTION:October is Domestic Violence Awareness month. This seminar will teach you basic skills needed in order to be aware of your surroundings\, handle an attacker and get away safely.\n\nPlease wear something comfortable to the seminar.\n\nCost is $29 each person\n\nAges 13 and up.
X-ALT-DESC;FMTTYPE=text/html:October is Domestic Violence Awareness month. This seminar will teach you basic skills needed in order to be aware of your surroundings\, handle an attacker and get away safely.<br />\nPlease wear something comfortable to the seminar.<br />\nCost is $29 each person<br />\nAges 13 and up.
LOCATION:Royce Gracie Academy of Macomb 1601 W. Jackson Street Macomb\, IL
UID:e.2125.15978
SEQUENCE:3
DTSTAMP:20260422T054722Z
URL:https://business.macombareachamber.com/events/details/women-s-self-defense-seminar-15978
END:VEVENT

END:VCALENDAR
