BEGIN:VCALENDAR
VERSION:2.0
PRODID:-//ChamberMaster//Event Calendar 2.0//EN
METHOD:PUBLISH
X-PUBLISHED-TTL:P3D
REFRESH-INTERVAL:P3D
CALSCALE:GREGORIAN
BEGIN:VEVENT
DTSTART:20230402T160000Z
DTEND:20230402T190000Z
X-MICROSOFT-CDO-ALLDAYEVENT:FALSE
SUMMARY:Women's Empowerment - A Brunch Experience
DESCRIPTION:April 2nd\, 11 am in the MCC Multipurpose room (An event to celebrate and encourage female excellence and success. A power-brunch to remember). Food. Karaoke. Free gifts.
X-ALT-DESC;FMTTYPE=text/html:April 2nd\, 11 am in the MCC Multipurpose room (An event to celebrate and encourage female excellence and success. A power-brunch to remember). Food. Karaoke. Free gifts.&nbsp\;
LOCATION:Western Illinois University - Multicultural Center
UID:e.2125.13007
SEQUENCE:3
DTSTAMP:20260423T221735Z
URL:https://business.macombareachamber.com/events/details/women-s-empowerment-a-brunch-experience-13007
END:VEVENT

END:VCALENDAR
