BEGIN:VCALENDAR
VERSION:2.0
PRODID:-//ChamberMaster//Event Calendar 2.0//EN
METHOD:PUBLISH
X-PUBLISHED-TTL:P3D
REFRESH-INTERVAL:P3D
CALSCALE:GREGORIAN
BEGIN:VEVENT
DTSTART;VALUE=DATE:20230830
DTEND;VALUE=DATE:20230831
TRANSP:TRANSPARENT
X-MICROSOFT-CDO-ALLDAYEVENT:TRUE
SUMMARY:WIU Women's Golf Team Stagette
DESCRIPTION:Please join us for WIU Women's Golf Team Stagette. All proceeds go to WIU Womens Golf.
X-ALT-DESC;FMTTYPE=text/html:Please join us for WIU Women&#39\;s Golf Team Stagette. All proceeds go to WIU Womens Golf.&nbsp\;
LOCATION:Harry Mussatto Golf Course - 1215 Tower Road
UID:e.2125.13617
SEQUENCE:3
DTSTAMP:20260423T175057Z
URL:https://business.macombareachamber.com/events/details/wiu-women-s-golf-team-stagette-13617
END:VEVENT

END:VCALENDAR
