BEGIN:VCALENDAR
VERSION:2.0
PRODID:-//ChamberMaster//Event Calendar 2.0//EN
METHOD:PUBLISH
X-PUBLISHED-TTL:P3D
REFRESH-INTERVAL:P3D
CALSCALE:GREGORIAN
BEGIN:VEVENT
DTSTART;VALUE=DATE:20230714
DTEND;VALUE=DATE:20230716
TRANSP:TRANSPARENT
X-MICROSOFT-CDO-ALLDAYEVENT:TRUE
SUMMARY:WIU SummerStage - SCHOOL OF ROCK
DESCRIPTION:The WIU College of Fine Arts and Communication announces SummerStage 2023.\n\n\n\nSCHOOL OF ROCK! \n\nBy Andrew Lloyd Webber\n\nDirected by Carolyn Blackinton\, Choreography by Heidi Clemmens\, and Music by Nicholas Miguel\n\n\n\nTickets on sale July 1.\n\nVisit westernpresents.com/sor\, at the Hainline Box Office\, or by calling 309-298-2900.\n\n$20 General Admission/$15 Youth and Seniors\n\n\n\nSponsored by Clock Tower Community Bank
X-ALT-DESC;FMTTYPE=text/html:<p>The WIU College of Fine Arts and Communication announces SummerStage 2023.<br />\n<br />\nSCHOOL OF ROCK!&nbsp\;<br />\nBy Andrew Lloyd Webber</p>\n\n<p>Directed by Carolyn Blackinton\, Choreography by Heidi Clemmens\, and Music by Nicholas Miguel<br />\n<br />\nTickets on sale July 1.<br />\nVisit westernpresents.com/sor\, at the Hainline Box Office\, or by calling 309-298-2900.<br />\n$20 General Admission/$15 Youth and Seniors<br />\n<br />\nSponsored by Clock Tower Community Bank</p>\n
LOCATION:Hainline Theatre Western Illinois University 1 University Circle Macomb\, IL 61455
UID:e.2125.13595
SEQUENCE:3
DTSTAMP:20260423T175807Z
URL:https://business.macombareachamber.com/events/details/wiu-summerstage-school-of-rock-13595
END:VEVENT

END:VCALENDAR
