BEGIN:VCALENDAR
VERSION:2.0
PRODID:-//ChamberMaster//Event Calendar 2.0//EN
METHOD:PUBLISH
X-PUBLISHED-TTL:P3D
REFRESH-INTERVAL:P3D
CALSCALE:GREGORIAN
BEGIN:VEVENT
DTSTART:20230508T150000Z
DTEND:20230510T230000Z
X-MICROSOFT-CDO-ALLDAYEVENT:FALSE
SUMMARY:WIU Spring Art Sale
DESCRIPTION:The WIU Department of Art and Design will host it's annual Spring Art Sale in the University Brattain Lounge. The art sale will feature works of ceramics\, prints\, jewelry\, photography\, and more. A portion of the proceeds provide financial support for WIU students.
X-ALT-DESC;FMTTYPE=text/html:The WIU Department of Art and Design will host it&#39\;s annual Spring Art Sale in the University Brattain Lounge. The art sale will feature works of ceramics\, prints\, jewelry\, photography\, and more. A portion of the proceeds provide financial support for WIU students.&nbsp\;
LOCATION:Western Illinois University - Macomb Campus University Union - Brattain Lounge
UID:e.2125.13408
SEQUENCE:3
DTSTAMP:20260423T232819Z
URL:https://business.macombareachamber.com/events/details/wiu-spring-art-sale-13408
END:VEVENT

END:VCALENDAR
