BEGIN:VCALENDAR
VERSION:2.0
PRODID:-//ChamberMaster//Event Calendar 2.0//EN
METHOD:PUBLISH
X-PUBLISHED-TTL:P3D
REFRESH-INTERVAL:P3D
CALSCALE:GREGORIAN
BEGIN:VEVENT
DTSTART;VALUE=DATE:20220710
DTEND;VALUE=DATE:20220716
TRANSP:TRANSPARENT
X-MICROSOFT-CDO-ALLDAYEVENT:TRUE
SUMMARY:WIU's STEM Camp (Grades 9 - 12)
DESCRIPTION:WIU's STEM Camp is a unique summer camp opportunity for 9th -12th graders with an interest in science who want to explore careers in various scientific fields. This five day long program will provide instruction and scientific activities from a variety of disciplines. It is being offered as a learning experience for those interested\, with the goal of keeping our students academically engaged this upcoming summer.
X-ALT-DESC;FMTTYPE=text/html:WIU&#39\;s STEM Camp is a unique summer camp opportunity for 9th -12th graders with an interest in science who want to explore careers in various scientific fields. This five day long program will provide instruction and scientific activities from a variety of disciplines. It is being offered as a learning experience for those interested\, with the goal of keeping our students academically engaged this upcoming summer.
LOCATION:Western Illinois University
UID:e.2125.8127
SEQUENCE:3
DTSTAMP:20260422T120144Z
URL:https://business.macombareachamber.com/events/details/wiu-s-stem-camp-grades-9-12-8127
END:VEVENT

END:VCALENDAR
