BEGIN:VCALENDAR
VERSION:2.0
PRODID:-//ChamberMaster//Event Calendar 2.0//EN
METHOD:PUBLISH
X-PUBLISHED-TTL:P3D
REFRESH-INTERVAL:P3D
CALSCALE:GREGORIAN
BEGIN:VEVENT
DTSTART;VALUE=DATE:20230817
DTEND;VALUE=DATE:20230821
TRANSP:TRANSPARENT
X-MICROSOFT-CDO-ALLDAYEVENT:TRUE
SUMMARY:WIU Move In Weekend
DESCRIPTION:Students will begin moving into their dorms and on campus housing. Residence halls will open for students for move-in beginning Thursday\, August 17\, 2023\, at 8 am.\n\nVisit the university website below for a full schedule and more information.
X-ALT-DESC;FMTTYPE=text/html:Students will begin moving into their dorms and on campus housing.&nbsp\;Residence halls will open for students for move-in beginning Thursday\, August 17\, 2023\, at 8 am.<br />\nVisit the university website below for a full schedule and more information.&nbsp\;
LOCATION:Western Illinois University - Macomb Campus
UID:e.2125.13693
SEQUENCE:3
DTSTAMP:20260423T174605Z
URL:https://business.macombareachamber.com/events/details/wiu-move-in-weekend-13693
END:VEVENT

END:VCALENDAR
