BEGIN:VCALENDAR
VERSION:2.0
PRODID:-//ChamberMaster//Event Calendar 2.0//EN
METHOD:PUBLISH
X-PUBLISHED-TTL:P3D
REFRESH-INTERVAL:P3D
CALSCALE:GREGORIAN
BEGIN:VEVENT
DTSTART;VALUE=DATE:20230414
DTEND;VALUE=DATE:20230417
TRANSP:TRANSPARENT
X-MICROSOFT-CDO-ALLDAYEVENT:TRUE
SUMMARY:WIU Mom's Weekend at the Crafty Coop
DESCRIPTION:Join us for Mom's Weekend at The Crafty Coop!\n\nBring your WIU student in with their student ID and Mom's Paint Free \n\n(Free Studio Fee)\n\nHundreds of options of pottery to choose from\, over 50 paint color choices!\n\nHours are:\n\nFriday 4:30-7:30 PM\n\nSaturday 10 AM-6 PM\n\nSunday 12-5 PM\n\nReservations are strongly recommended\, walk-ins are always welcome as table space allows. Expect to spend 1-2 hours painting depending on how big your pieces are.\n\nCall or message the studio on Facebook with questions 309-331-0965
X-ALT-DESC;FMTTYPE=text/html:Join us for Mom&#39\;s Weekend at The Crafty Coop!<br />\nBring your WIU student in with their student ID and Mom&#39\;s Paint Free&nbsp\;<br />\n(Free Studio Fee)<br />\nHundreds of options of pottery to choose from\, over 50 paint color choices!<br />\nHours are:<br />\nFriday 4:30-7:30 PM<br />\nSaturday 10 AM-6 PM<br />\nSunday 12-5 PM<br />\nReservations are strongly recommended\, walk-ins are always welcome as table space allows. Expect to spend 1-2 hours painting depending on how big your pieces are.<br />\nCall or message the studio on Facebook with questions 309-331-0965
LOCATION:The Crafty Coop - 206 N. Lafayette\, Macomb
UID:e.2125.13103
SEQUENCE:3
DTSTAMP:20260423T233209Z
URL:https://business.macombareachamber.com/events/details/wiu-mom-s-weekend-at-the-crafty-coop-13103
END:VEVENT

END:VCALENDAR
