BEGIN:VCALENDAR
VERSION:2.0
PRODID:-//ChamberMaster//Event Calendar 2.0//EN
METHOD:PUBLISH
X-PUBLISHED-TTL:P3D
REFRESH-INTERVAL:P3D
CALSCALE:GREGORIAN
BEGIN:VEVENT
DTSTART;VALUE=DATE:20230413
DTEND;VALUE=DATE:20230417
TRANSP:TRANSPARENT
X-MICROSOFT-CDO-ALLDAYEVENT:TRUE
SUMMARY:WIU Mom's Weekend
DESCRIPTION:Join us for Mom's Day on April 15\, 2023 and all weekend for special events on campus and in the community!\n\n\n\nMERCHANDISE:\n\nBOOKSTORE ANNUAL CLEARANCE SALE\n\nWHEN:   Thursday\, April 13 - Saturday\, April 15 (Thurs-Friday\, 8am-5pm\, Saturday\, 10am-3pm)\n\nWHERE:  WIU Bookstore\, University Union\, Ground Floor\n\nWHAT:   Stock up on WIU merchandise by taking advantage of the WIU Bookstore Annual Clearance!  Racks of clearance items and the rest of the store will be 20% off.  This happens once a year so you won't want to miss it! \n\n\n\nCAMPUS EVENTS:\n\nMOMS' DAY BINGO\n\nWHEN: Saturday\, 7-9pm\n\nWHERE: Grand Ballroom\, University Union\n\nWHAT:   Come join in on one of the most popular activities on campus!  The University Union Board will be hosting a fun evening of FREE Bingo with lots of chances to win great prizes!\n\n\n\nATHLETICS\n\nWIU Women's Tennis vs. Kansas City\n\nWHEN: Friday\, April 14th at 12pm\n\nWHERE: WIU Varsity Court\n\nWHAT:   Come cheer on the WIU Women's tennis team take on Kansas City with a 12pm start time.\n\nWIU Women's Tennis vs. St. Thomas\n\nWHEN: Sunday\, April 16th at 11am\n\nWHERE: WIU Varsity Court\n\nWHAT:   Another great opportunity to take in tennis matches by our very out WIU Tennis Team.  Come out to cheer on our Leathernecks!\n\n\n\nTHE WESTERN CONNECTION SHOP\n\nWHEN: Tuesdays & Wednesdays:  10:30am-12:30pm\, Thursdays & Fridays:  4:30pm-6:30pm\, Saturdays:  9am-12pm\n\nWHERE: Located in Macomb's Train Station (West end)\n\nWHAT:   Make some time to visit The Western Connection shop in the Macomb Train Station!  The Western Connection shop specializes in WIU licensed apparel as well as unique gift items made by WIU alumni\, departments and students. \n\n         Items for sale include:\n\nHand-crafted jewelry\, keychains and scented wax melts \n\nPurple & Gold popcorn\n\nVariety of licensed WIU apparel and gifts\n\nAnd more!!!\n\nLike The Western Connection on  Facebook and follow them on  Instagram !\n\n\n\nCOMMUNITY EVENTS:\n\nKAYAKING AT SPRING LAKE\n\nWHEN: Saturday\, April 15th @10am-5pm\n\nWHERE: Spring Lake Park\n\nWHAT: Free Kayaking for any WIU student (with WIU ID) and their mom\n\n**Disclaimer: Please note that with the cooler temperatures\, kayaking may be unavailable. Hiking maps will be available instead. \n\n\n\nPONTOON TOURS OF SPRING LAKE\n\nWHEN: Saturday\, April 15th @ 9am-4pm / Sunday\, April 16th @ 9am-3pm\n\nWHERE: Spring Lake Park\n\nWHAT: Enjoy a pontoon tour of Spring Lake for the Moms' Day weekend. Tours will be offered every hour on the hour for families up to 10 people.  There will be no cost for the tour but tips are allowed for our drivers  To reserve your ride please call 309-833-2052 during business hours.\n\n\n\nMAC BINGO BASH\n\nWHEN: Saturday\, April 15th @ 6:30pm\n\nWHERE: Macomb Arts Center\, 25 East Side Square\, Macomb\n\nWHAT: The Macomb Arts Center is holding a fundraiser for new carpet in the center.  Join them in a few rounds of bingo to win prizes!  Tickets are $20 per person or $200 for a reserved table of 8 (guarantees seating together.  Raffles\, snacks and cash bar available.  Click HERE for tickets and more information.\n\n\n\nNATURE MAKERS WORKSHOP:\n\nSIMPLE LEAF MONOPRINTS\n\nWHEN:   April 15\n\nWHERE:   Lakeview Nature Area and Center\n\nWHAT: We will use dried leaves and watercolor to create a series of beautiful prints! We will walk you through simple steps as you explore a fun twist on printmaking with nature! We can't wait to create with you! Pre-registration is required at Macombparkdistrict.com/programs.\n\n\n\nPRAIRIE EGG HUNT\n\nWHEN:   All weekend!\n\nWHERE:   Lakeview Nature Area and Center\n\nWHAT: This is a FREE\, self-guided\, outdoor event open to visitors every day from 9 AM   6 PM. Eight ceramic eggs with accompanying nature facts are placed throughout the prairie for you to discover! As a reminder for you to come prepared\, the restrooms at the center will not be open during this time.  \n\n\n\nMACOMB SCHOOL OF MAGIC SCULPTURE PARK\n\nWHERE: Nestled at the edge of Downtown Macomb\, Next to Citizens bank and the Macomb Post Office\n\nWHAT: Each sculpture in this park reflects aspects of our local parks\, as well as the history and culture of Macomb. Please feel free to try and pull the sword from our local stone\, or see if you can find your face in the stack of local vases. Perhaps the spinning Zoetrope is more your kind of illusion\, or the quirky movements of our local birds. However you choose to interact\, we are glad you are here!\n\n\n\nEVERWOOD DISC GOLF COURSE\n\nWHERE: Glenwood Park\n\nWHAT: This 18 hole course offers beautiful scenery throughout a variety of holes that start tight with a moderate covering of mature trees and change in relief and obstacles\, finishing with long challenging open holes. The front nine\, located in Glenwood Park\, offers shorter holes with a mix of birdie chances with tight approaches. These holes are tree-laden rewarding accurate drives and punish wayward tee shots and approaches. Go have some fun!\n\n\n\nVETERANS PARK QR FIT TRAIL\n\nWHERE: Veterans Park\n\nWHAT: This park offers over 1.7 miles of walking trails which includes QR fitness codes along the route with varying exercises. You will also find Outdoor fitness Equipment near the playground. We hope you enjoy a beautiful day of walking\, running\, or jogging!\n\n\n\nFORGOTTONIA BREWING\n\nWHERE: Forgottonia Taproom\n\nWHAT:  Stop in Forgottonia Brewing for food\, beer and music. In addition to beer\, Forgottonia also serves Guest Hard Cider\, Local Wine on Tap\, and canned cocktails .   For Moms' Day\, Forgottonia is offering $1 off flights.\n\nFriday\, April 14: Food Truck: Sandra's Authentic Mexican Taquiza (all tacos menu) - They will have Asada\, Al pastor\, Barbacoa\, Quesabirria\, and many more from 4 pm to 9 pm (Cash Only).\n\n\n\nSaturday\, April 15: Live Music: "The Ex-Bombers" will be playing from 8pm-10pm.  The "Ex-Bombers" are a husband and wife musical group that will be playing at Forgottonia. The link to their website for more information is: http://theexbombers.com/.\n\nSunday\, April 16: Looking for a fun activity with your student?  Check out Music BINGO at Forgottonia at 3pm. The theme will be Happy Hits
X-ALT-DESC;FMTTYPE=text/html:<div style="text-align: center\;"><font color="#663399" face="Open Sans\, serif"><span style="font-size: 24px\; background-color: rgb(255\, 204\, 0)\;"><b>Join us for Mom&#39\;s Day on April 15\, 2023 and all weekend for special events on campus and in the community!</b></span></font><br />\n<br />\nMERCHANDISE:<br />\nBOOKSTORE ANNUAL CLEARANCE SALE<br />\nWHEN:&nbsp\; &nbsp\;Thursday\, April 13 - Saturday\, April 15 (Thurs-Friday\, 8am-5pm\, Saturday\, 10am-3pm)<br />\nWHERE:&nbsp\; WIU Bookstore\, University Union\, Ground Floor<br />\nWHAT:&nbsp\; &nbsp\;Stock up on WIU merchandise by taking advantage of the WIU Bookstore Annual Clearance!&nbsp\; Racks of clearance items and the rest of the store will be 20% off.&nbsp\; This happens once a year so you won&rsquo\;t want to miss it!&nbsp\;<br />\n<br />\nCAMPUS EVENTS:<br />\nMOMS&rsquo\; DAY BINGO<br />\nWHEN: Saturday\, 7-9pm<br />\nWHERE: Grand Ballroom\, University Union<br />\nWHAT:&nbsp\; &nbsp\;Come join in on one of the most popular activities on campus!&nbsp\; The University Union Board will be hosting a fun evening of FREE Bingo with lots of chances to win great prizes!<br />\n<br />\nATHLETICS<br />\nWIU Women&rsquo\;s Tennis vs. Kansas City<br />\nWHEN: Friday\, April 14th at 12pm<br />\nWHERE: WIU Varsity Court<br />\nWHAT:&nbsp\; &nbsp\;Come cheer on the WIU Women&rsquo\;s tennis team take on Kansas City with a 12pm start time.<br />\nWIU Women&rsquo\;s Tennis vs. St. Thomas<br />\nWHEN: Sunday\, April 16th at 11am<br />\nWHERE: WIU Varsity Court<br />\nWHAT:&nbsp\; &nbsp\;Another great opportunity to take in tennis matches by our very out WIU Tennis Team.&nbsp\; Come out to cheer on our Leathernecks!<br />\n<br />\nTHE WESTERN CONNECTION SHOP<br />\nWHEN: Tuesdays &amp\; Wednesdays:&nbsp\; 10:30am-12:30pm\, Thursdays &amp\; Fridays:&nbsp\; 4:30pm-6:30pm\, Saturdays:&nbsp\; 9am-12pm<br />\nWHERE: Located in Macomb&#39\;s Train Station (West end)<br />\nWHAT:&nbsp\; &nbsp\;Make some time to visit The Western Connection shop in the Macomb Train Station!&nbsp\; The Western Connection shop specializes in WIU licensed apparel as well as unique gift items made by WIU alumni\, departments and students.&nbsp\;<br />\n&nbsp\; &nbsp\; &nbsp\; &nbsp\; &nbsp\;Items for sale include:<br />\nHand-crafted jewelry\, keychains and scented wax melts&nbsp\;<br />\nPurple &amp\; Gold popcorn<br />\nVariety of licensed WIU apparel and gifts<br />\nAnd more!!!<br />\nLike The Western Connection on&nbsp\; Facebook and follow them on&nbsp\; Instagram !<br />\n<br />\nCOMMUNITY EVENTS:<br />\nKAYAKING AT SPRING LAKE<br />\nWHEN: Saturday\, April 15th @10am-5pm<br />\nWHERE: Spring Lake Park<br />\nWHAT: Free Kayaking for any WIU student (with WIU ID) and their mom<br />\n**Disclaimer: Please note that with the cooler temperatures\, kayaking may be unavailable. Hiking maps will be available instead.&nbsp\;<br />\n<br />\nPONTOON TOURS OF SPRING LAKE<br />\nWHEN: Saturday\, April 15th @ 9am-4pm / Sunday\, April 16th @ 9am-3pm<br />\nWHERE: Spring Lake Park<br />\nWHAT: Enjoy a pontoon tour of Spring Lake for the Moms&rsquo\; Day weekend. Tours will be offered every hour on the hour for families up to 10 people.&nbsp\; There will be no cost for the tour but tips are allowed for our drivers&nbsp\; To reserve your ride please call 309-833-2052 during business hours.<br />\n<br />\nMAC BINGO BASH<br />\nWHEN: Saturday\, April 15th @ 6:30pm<br />\nWHERE: Macomb Arts Center\, 25 East Side Square\, Macomb<br />\nWHAT: The Macomb Arts Center is holding a fundraiser for new carpet in the center.&nbsp\; Join them in a few rounds of bingo to win prizes!&nbsp\; Tickets are $20 per person or $200 for a reserved table of 8 (guarantees seating together.&nbsp\; Raffles\, snacks and cash bar available.&nbsp\; Click HERE for tickets and more information.<br />\n<br />\nNATURE MAKERS WORKSHOP:<br />\nSIMPLE LEAF MONOPRINTS<br />\nWHEN:&nbsp\; &nbsp\;April 15<br />\nWHERE:&nbsp\; &nbsp\;Lakeview Nature Area and Center<br />\nWHAT: We will use dried leaves and watercolor to create a series of beautiful prints! We will walk you through simple steps as you explore a fun twist on printmaking with nature! We can&rsquo\;t wait to create with you! Pre-registration is required at Macombparkdistrict.com/programs.<br />\n<br />\nPRAIRIE EGG HUNT<br />\nWHEN:&nbsp\; &nbsp\;All weekend!<br />\nWHERE:&nbsp\; &nbsp\;Lakeview Nature Area and Center<br />\nWHAT: This is a FREE\, self-guided\, outdoor event open to visitors every day from 9 AM &ndash\; 6 PM. Eight ceramic eggs with accompanying nature facts are placed throughout the prairie for you to discover! As a reminder for you to come prepared\, the restrooms at the center will not be open during this time.&nbsp\;&nbsp\;<br />\n<br />\nMACOMB SCHOOL OF MAGIC SCULPTURE PARK<br />\nWHERE: Nestled at the edge of Downtown Macomb\, Next to Citizens bank and the Macomb Post Office<br />\nWHAT: Each sculpture in this park reflects aspects of our local parks\, as well as the history and culture of Macomb. Please feel free to try and pull the sword from our local stone\, or see if you can find your face in the stack of local vases. Perhaps the spinning Zoetrope is more your kind of illusion\, or the quirky movements of our local birds. However you choose to interact\, we are glad you are here!<br />\n<br />\nEVERWOOD DISC GOLF COURSE<br />\nWHERE: Glenwood Park<br />\nWHAT: This 18 hole course offers beautiful scenery throughout a variety of holes that start tight with a moderate covering of mature trees and change in relief and obstacles\, finishing with long challenging open holes. The front nine\, located in Glenwood Park\, offers shorter holes with a mix of birdie chances with tight approaches. These holes are tree-laden rewarding accurate drives and punish wayward tee shots and approaches. Go have some fun!<br />\n<br />\nVETERANS PARK QR FIT TRAIL<br />\nWHERE: Veterans Park<br />\nWHAT: This park offers over 1.7 miles of walking trails which includes QR fitness codes along the route with varying exercises. You will also find Outdoor fitness Equipment near the playground. We hope you enjoy a beautiful day of walking\, running\, or jogging!<br />\n<br />\nFORGOTTONIA BREWING<br />\nWHERE: Forgottonia Taproom<br />\nWHAT:&nbsp\; Stop in Forgottonia Brewing for food\, beer and music. In addition to beer\, Forgottonia also serves Guest Hard Cider\, Local Wine on Tap\, and canned cocktails .&nbsp\; &nbsp\;For Moms&#39\; Day\, Forgottonia is offering $1 off flights.<br />\nFriday\, April 14: Food Truck: Sandra&rsquo\;s Authentic Mexican Taquiza (all tacos menu) - They will have Asada\, Al pastor\, Barbacoa\, Quesabirria\, and many more from 4 pm to 9 pm (Cash Only).<br />\n<br />\nSaturday\, April 15: Live Music: &quot\;The Ex-Bombers&quot\; will be playing from 8pm-10pm.&nbsp\; The &quot\;Ex-Bombers&quot\; are a husband and wife musical group that will be playing at Forgottonia. The link to their website for more information is: http://theexbombers.com/.<br />\nSunday\, April 16: Looking for a fun activity with your student?&nbsp\; Check out Music BINGO at Forgottonia at 3pm. The theme will be Happy Hits<br />\n&nbsp\;</div>\n
LOCATION:
UID:e.2125.13104
SEQUENCE:3
DTSTAMP:20260423T221427Z
URL:https://business.macombareachamber.com/events/details/wiu-mom-s-weekend-13104
END:VEVENT

END:VCALENDAR
