BEGIN:VCALENDAR
VERSION:2.0
PRODID:-//ChamberMaster//Event Calendar 2.0//EN
METHOD:PUBLISH
X-PUBLISHED-TTL:P3D
REFRESH-INTERVAL:P3D
CALSCALE:GREGORIAN
BEGIN:VEVENT
DTSTART:20230416T003000Z
DTEND:20230416T023000Z
X-MICROSOFT-CDO-ALLDAYEVENT:FALSE
SUMMARY:WIU Masterworks Concert: Mozart's Requiem
DESCRIPTION:Come join us for our first masterworks concert in years! This concert will feature WIU Choirs and Symphony Orchestra and four fantastic soloists\, Professor Ru Huang\, Alum Claire Ryterski\, Dr. Alfonzo Cooper Jr.\, and Dr. Nicholas Miguel.\n\nThere is no admission cost and seating will be first-come-first-serve. We expect standing room only\, so don't miss out. Doors open at 7:00 PM.
X-ALT-DESC;FMTTYPE=text/html:Come join us for our first masterworks concert in years! This concert will feature WIU Choirs and Symphony Orchestra and four fantastic soloists\, Professor Ru Huang\, Alum Claire Ryterski\, Dr. Alfonzo Cooper Jr.\, and Dr. Nicholas Miguel.<br />\nThere is no admission cost and seating will be first-come-first-serve. We expect standing room only\, so don&rsquo\;t miss out. Doors open at 7:00 PM.
LOCATION:Western Illinois University School of Music Browne Hall 122\, 1 University Circle\, Macomb
UID:e.2125.13091
SEQUENCE:3
DTSTAMP:20260423T222517Z
URL:https://business.macombareachamber.com/events/details/wiu-masterworks-concert-mozart-s-requiem-13091
END:VEVENT

END:VCALENDAR
