BEGIN:VCALENDAR
VERSION:2.0
PRODID:-//ChamberMaster//Event Calendar 2.0//EN
METHOD:PUBLISH
X-PUBLISHED-TTL:P3D
REFRESH-INTERVAL:P3D
CALSCALE:GREGORIAN
BEGIN:VEVENT
DTSTART;VALUE=DATE:20241011
DTEND;VALUE=DATE:20241013
TRANSP:TRANSPARENT
X-MICROSOFT-CDO-ALLDAYEVENT:TRUE
SUMMARY:WIU Homecoming & Reunion
DESCRIPTION:Friday\, October 11 * Western Illinois University All-Greek Reunion\, Featuring the `80s * Spencer Student Recreation Center - open 6 a.m. - 9 p.m. (Homecoming Special: $4 day pass) * Reunion check-in starts\; it continues throughout the weekend. Registration will take place at the Alumni House. * 2 p.m. - Campus Tour starting at Admissions Office in Sherman Hall * 5-9 p.m. All-Alumni Social\, Alumni House (Complimentary food\, beer\, wine and soda\; cash bar available) Saturday\, October 12 * Western Illinois University All-Greek Reunion\, Featuring the `80s * Spencer Student Recreation Center - open 6 a.m. - 8 p.m. (Homecoming Special: $4 day pass) * 7-7:45 a.m. Old Stompin' Ground Runaround Registration\, Alumni House * 8 a.m. Old Stompin' Ground Runaround: 5K Run/1.5 mile walk * 8:30 a.m. Reunion Recognition Brunch & Social\, Alumni House * 9 a.m. - 5 p.m. - University Bookstore will be open * 9:30 a.m. All-Alumni Breakfast\, Alumni House (Complimentary coffee and donuts) * 10:30 a.m. Homecoming Parade - Watch from the Alumni House & Gwendolyn Brooks Memorial Park next door * Noon-3 p.m. Alumni Cookout at "The Right Place" tent - in Q LOT (Menu: Hot dogs and hamburgers\, veggie burgers\, potato chips\, bottled water\, canned soda and coffee.) A cash bar will be available (pay with cash or credit). * 3 p.m. Leathernecks Football Game vs. UT Martin - Hanson Field Tickets will not be mailed. The Homecoming football ticket sales are final. Therefore\, all tickets purchased through the WIU Alumni Association are non-refundable. **If you order mums\, t-shirts\, football tickets and/or lunch tickets\, you can pick them up at the Alumni House any time on Friday and until 11:30 a.m. on Saturday morning. After 11:30 a.m. on Saturday\, tickets/mums/t-shirts will be taken down to The Right Place tent\, which is in Q Lot. You can pick up your items there. Any football tickets not picked up by 3:00 p.m. (game time) on Saturday will be left at the will call window at the stadium.
X-ALT-DESC;FMTTYPE=text/html:Friday\, October 11 * Western Illinois University All-Greek Reunion\, Featuring the `80s * Spencer Student Recreation Center - open 6 a.m. - 9 p.m. (Homecoming Special: $4 day pass) * Reunion check-in starts\; it continues throughout the weekend. Registration will take place at the Alumni House. * 2 p.m. - Campus Tour starting at Admissions Office in Sherman Hall * 5-9 p.m. All-Alumni Social\, Alumni House (Complimentary food\, beer\, wine and soda\; cash bar available) Saturday\, October 12 * Western Illinois University All-Greek Reunion\, Featuring the `80s * Spencer Student Recreation Center - open 6 a.m. - 8 p.m. (Homecoming Special: $4 day pass) * 7-7:45 a.m. Old Stompin&#39\; Ground Runaround Registration\, Alumni House * 8 a.m. Old Stompin&#39\; Ground Runaround: 5K Run/1.5 mile walk * 8:30 a.m. Reunion Recognition Brunch &amp\; Social\, Alumni House * 9 a.m. - 5 p.m. - University Bookstore will be open * 9:30 a.m. All-Alumni Breakfast\, Alumni House (Complimentary coffee and donuts) * 10:30 a.m. Homecoming Parade - Watch from the Alumni House &amp\; Gwendolyn Brooks Memorial Park next door * Noon-3 p.m. Alumni Cookout at &quot\;The Right Place&quot\; tent - in Q LOT (Menu: Hot dogs and hamburgers\, veggie burgers\, potato chips\, bottled water\, canned soda and coffee.) A cash bar will be available (pay with cash or credit). * 3 p.m. Leathernecks Football Game vs. UT Martin - Hanson Field Tickets will not be mailed. The Homecoming football ticket sales are final. Therefore\, all tickets purchased through the WIU Alumni Association are non-refundable. **If you order mums\, t-shirts\, football tickets and/or lunch tickets\, you can pick them up at the Alumni House any time on Friday and until 11:30 a.m. on Saturday morning. After 11:30 a.m. on Saturday\, tickets/mums/t-shirts will be taken down to The Right Place tent\, which is in Q Lot. You can pick up your items there. Any football tickets not picked up by 3:00 p.m. (game time) on Saturday will be left at the will call window at the stadium.
LOCATION:WIU Alumni House 1009 W. Adams St. Macomb\, IL
UID:e.2125.16019
SEQUENCE:3
DTSTAMP:20260422T054700Z
URL:https://business.macombareachamber.com/events/details/wiu-homecoming-reunion-16019
END:VEVENT

END:VCALENDAR
