BEGIN:VCALENDAR
VERSION:2.0
PRODID:-//ChamberMaster//Event Calendar 2.0//EN
METHOD:PUBLISH
X-PUBLISHED-TTL:P3D
REFRESH-INTERVAL:P3D
CALSCALE:GREGORIAN
BEGIN:VEVENT
DTSTART;VALUE=DATE:20250411
DTEND;VALUE=DATE:20250414
TRANSP:TRANSPARENT
X-MICROSOFT-CDO-ALLDAYEVENT:TRUE
SUMMARY:WIU Friends & Family Weekend
DESCRIPTION:Western Illinois University\, in conjunction with New Student and Family Programs will be hosting Family and Friends Weekend April 11-13\, 2025.  This weekend will include a variety of events to engage all WIU students and their families on campus and in the Macomb community.  Some events include the Lee Calhoun High School Invitational Track & Field Meet on Friday\, Pastries with the President Saturday morning\, Monopoly Game Night\, Photos with "Ray" and Friends and Family Bingo on Saturday\, and WIU Dining Hall brunch specials on Sunday.  Various businesses in the Macomb community have also agreed to provide specials/discounts for students and their families/friends.
X-ALT-DESC;FMTTYPE=text/html:Western Illinois University\, in conjunction with New Student and Family Programs will be hosting Family and Friends Weekend April 11-13\, 2025.&nbsp\; This weekend will include a variety of events to engage all WIU students and their families on campus and in the Macomb community.&nbsp\; Some events include the Lee Calhoun High School Invitational Track &amp\; Field Meet on Friday\, Pastries with the President Saturday morning\, Monopoly Game Night\, Photos with &quot\;Ray&quot\; and Friends and Family Bingo on Saturday\, and WIU Dining Hall brunch specials on Sunday.&nbsp\; Various businesses in the Macomb community have also agreed to provide specials/discounts for students and their families/friends.&nbsp\;&nbsp\;
LOCATION:
UID:e.2125.18787
SEQUENCE:3
DTSTAMP:20260420T110855Z
URL:https://business.macombareachamber.com/events/details/wiu-friends-family-weekend-18787
END:VEVENT

END:VCALENDAR
