BEGIN:VCALENDAR
VERSION:2.0
PRODID:-//ChamberMaster//Event Calendar 2.0//EN
METHOD:PUBLISH
X-PUBLISHED-TTL:P3D
REFRESH-INTERVAL:P3D
CALSCALE:GREGORIAN
BEGIN:VEVENT
DTSTART;VALUE=DATE:20240928
DTEND;VALUE=DATE:20240929
TRANSP:TRANSPARENT
X-MICROSOFT-CDO-ALLDAYEVENT:TRUE
SUMMARY:WIU Football: Leathernecks vs. McKendree University
DESCRIPTION:Western Illinois University Leathernecks vs. McKendree University
X-ALT-DESC;FMTTYPE=text/html:Western Illinois University Leathernecks vs. McKendree University&nbsp\;
LOCATION:Western Illinois University Macomb Campus - Hanson Field
UID:e.2125.15712
SEQUENCE:3
DTSTAMP:20260422T075708Z
URL:https://business.macombareachamber.com/events/details/wiu-football-leathernecks-vs-mckendree-university-15712
END:VEVENT

END:VCALENDAR
