BEGIN:VCALENDAR
VERSION:2.0
PRODID:-//ChamberMaster//Event Calendar 2.0//EN
METHOD:PUBLISH
X-PUBLISHED-TTL:P3D
REFRESH-INTERVAL:P3D
CALSCALE:GREGORIAN
BEGIN:VEVENT
DTSTART;VALUE=DATE:20230421
DTEND;VALUE=DATE:20230423
TRANSP:TRANSPARENT
X-MICROSOFT-CDO-ALLDAYEVENT:TRUE
SUMMARY:WIU Football Alumni Weekend
DESCRIPTION:It's confirmed!  Former Leatherneck All American WR and Track Star Jerry Holloway is bringing Brown Jerry's BBQ to Macomb for Football Alumni Weekend.  You won't want to miss it!\n\nTentative Itinerary:\n\nThursday April 20 - former players start arriving.  Attend practice on Hanson Field.  Dinner uptown at Sports Corner\n\n\n\nFriday April 21 - Rock's Gridiron Golf Classic at Macomb Country Club.  Hosted by Brian Spotts\, Rich Westen and Scott Collins.  Registration begins at 10:00 am. \n\n11:00 am shotgun start.\n\n3:30 Tailgate in Q-Lot \n\n5:45 Ceremonial handshake on Hanson Field at midfield between former players/coaches and current players and coaches\n\n6:00 Spring Game\n\nSocial immediately following at Sports Corner\n\nSaturday April 21 - WIU Football Coaches Golf Outing at Harry Mussatto Golf Course (WIU course).  Schedule to be determined.  \n\nDinner provided by Jerry Holloway of Brown Jerry's Blues\, Brews and BBQ - Pacific\, MO immediately following golf.\n\nDon't miss this opportunity to be with your brothers!  Get the word out!  Always a great time!\n\nSee you in April Necks!
X-ALT-DESC;FMTTYPE=text/html:It&rsquo\;s confirmed!&nbsp\; Former Leatherneck All American WR and Track Star Jerry Holloway is bringing Brown Jerry&rsquo\;s BBQ to Macomb for Football Alumni Weekend.&nbsp\; You won&rsquo\;t want to miss it!<br />\nTentative Itinerary:<br />\nThursday April 20 - former players start arriving.&nbsp\; Attend practice on Hanson Field.&nbsp\; Dinner uptown at Sports Corner<br />\n<br />\nFriday April 21 - Rock&rsquo\;s Gridiron Golf Classic at Macomb Country Club.&nbsp\; Hosted by Brian Spotts\, Rich Westen and Scott Collins.&nbsp\; Registration begins at 10:00 am.&nbsp\;<br />\n11:00 am shotgun start.<br />\n3:30 Tailgate in Q-Lot&nbsp\;<br />\n5:45 Ceremonial handshake on Hanson Field at midfield between former players/coaches and current players and coaches<br />\n6:00 Spring Game<br />\nSocial immediately following at Sports Corner<br />\nSaturday April 21 - WIU Football Coaches Golf Outing at Harry Mussatto Golf Course (WIU course).&nbsp\; Schedule to be determined.&nbsp\;&nbsp\;<br />\nDinner provided by Jerry Holloway of Brown Jerry&rsquo\;s Blues\, Brews and BBQ - Pacific\, MO immediately following golf.<br />\nDon&rsquo\;t miss this opportunity to be with your brothers!&nbsp\; Get the word out!&nbsp\; Always a great time!<br />\nSee you in April Necks!
LOCATION:
UID:e.2125.12642
SEQUENCE:3
DTSTAMP:20260423T221642Z
URL:https://business.macombareachamber.com/events/details/wiu-football-alumni-weekend-12642
END:VEVENT

END:VCALENDAR
