BEGIN:VCALENDAR
VERSION:2.0
PRODID:-//ChamberMaster//Event Calendar 2.0//EN
METHOD:PUBLISH
X-PUBLISHED-TTL:P3D
REFRESH-INTERVAL:P3D
CALSCALE:GREGORIAN
BEGIN:VEVENT
DTSTART:20240420T140000Z
DTEND:20240420T170000Z
X-MICROSOFT-CDO-ALLDAYEVENT:FALSE
SUMMARY:WIU Dance Kids Camp
DESCRIPTION:University Dance Company's DANCE CAMP FOR KIDS (1st - 12th Grade). No experience necessary! \n\nCome and dance with us at WIU ~ UDC!! Click on the QR to register!
X-ALT-DESC;FMTTYPE=text/html:University Dance Company&#39\;s DANCE CAMP FOR KIDS (1st - 12th Grade).&nbsp\;No experience necessary!&nbsp\;<br />\nCome and dance with us at WIU ~ UDC!!&nbsp\;Click on the QR to register!
LOCATION:WIU Macomb Campus Brophy Hall - 200 (Brophy Hall Dance Studio)
UID:e.2125.14578
SEQUENCE:3
DTSTAMP:20260423T102013Z
URL:https://business.macombareachamber.com/events/details/wiu-dance-kids-camp-14578
END:VEVENT

END:VCALENDAR
