BEGIN:VCALENDAR
VERSION:2.0
PRODID:-//ChamberMaster//Event Calendar 2.0//EN
METHOD:PUBLISH
X-PUBLISHED-TTL:P3D
REFRESH-INTERVAL:P3D
CALSCALE:GREGORIAN
BEGIN:VEVENT
DTSTART:20230429T160000Z
DTEND:20230429T200000Z
X-MICROSOFT-CDO-ALLDAYEVENT:FALSE
SUMMARY:WIU Color Run/Walk
DESCRIPTION:WIU Color Run/Walk. "Better Health Through Better Understanding" WIU Celebrates Minority Health Month 2023. Join us for a pizza party after the run (while supplies last). This event is free and open to the public.
X-ALT-DESC;FMTTYPE=text/html:WIU Color Run/Walk. &quot\;Better Health Through Better Understanding&quot\; WIU Celebrates Minority Health Month 2023. Join us for a pizza party after the run (while supplies last). This event is free and open to the public.&nbsp\;
LOCATION:WIU Macomb Campus - Vince Grady Field
UID:e.2125.13381
SEQUENCE:3
DTSTAMP:20260423T221430Z
URL:https://business.macombareachamber.com/events/details/wiu-color-run-walk-13381
END:VEVENT

END:VCALENDAR
