BEGIN:VCALENDAR
VERSION:2.0
PRODID:-//ChamberMaster//Event Calendar 2.0//EN
METHOD:PUBLISH
X-PUBLISHED-TTL:P3D
REFRESH-INTERVAL:P3D
CALSCALE:GREGORIAN
BEGIN:VEVENT
DTSTART;VALUE=DATE:20220722
DTEND;VALUE=DATE:20220723
TRANSP:TRANSPARENT
X-MICROSOFT-CDO-ALLDAYEVENT:TRUE
SUMMARY:WIU Campus Recreation Colgate Classic
DESCRIPTION:Join us for one of the best "value" golf tournaments of the summer. Only $60/golfer ($240 for a Foursome). Hole sponsorship opportunities available. Lunch provided with social afterwards at Sports Corner at 124 Proceeds go to support Campus Recreation. Register at the link below.
X-ALT-DESC;FMTTYPE=text/html:Join us for one of the best &quot\;value&quot\; golf tournaments of the summer. Only $60/golfer ($240 for a Foursome). Hole sponsorship opportunities available. Lunch provided with social afterwards at Sports Corner at 124 Proceeds go to support Campus Recreation. Register at the link below.&nbsp\;<br />\n<br />\n&nbsp\;
LOCATION:Harry Mussatto Golf Course
UID:e.2125.9897
SEQUENCE:3
DTSTAMP:20260422T120120Z
URL:https://business.macombareachamber.com/events/details/wiu-campus-recreation-colgate-classic-9897
END:VEVENT

END:VCALENDAR
