BEGIN:VCALENDAR
VERSION:2.0
PRODID:-//ChamberMaster//Event Calendar 2.0//EN
METHOD:PUBLISH
X-PUBLISHED-TTL:P3D
REFRESH-INTERVAL:P3D
CALSCALE:GREGORIAN
BEGIN:VEVENT
DTSTART;VALUE=DATE:20230428
DTEND;VALUE=DATE:20230430
TRANSP:TRANSPARENT
X-MICROSOFT-CDO-ALLDAYEVENT:TRUE
SUMMARY:WIU Camp Rocky
DESCRIPTION:Registration for Camp Rocky is open! Use the QR code below to register for this free camp! A few important things to remember when registering: Overnight Camp is from Friday\, April 28th at 4pm to Saturday\, April 29th at 3pm. Overnight Camp is only open to 5th-8th graders.\n\nDay Camp is Saturday\, April 29th from 9am-3pm. This camp is open to 1-8 graders.
X-ALT-DESC;FMTTYPE=text/html:Registration for Camp Rocky is open! Use the QR code below to register for this free camp! A few important things to remember when registering: Overnight Camp is from Friday\, April 28th at 4pm to Saturday\, April 29th at 3pm. Overnight Camp is only open to 5th-8th graders.<br />\nDay Camp is Saturday\, April 29th from 9am-3pm. This camp is open to 1-8 graders.
LOCATION:Horn Field Campus - 985 China Road\, Macomb.
UID:e.2125.13030
SEQUENCE:3
DTSTAMP:20260423T232604Z
URL:https://business.macombareachamber.com/events/details/wiu-camp-rocky-13030
END:VEVENT

END:VCALENDAR
