BEGIN:VCALENDAR
VERSION:2.0
PRODID:-//ChamberMaster//Event Calendar 2.0//EN
METHOD:PUBLISH
X-PUBLISHED-TTL:P3D
REFRESH-INTERVAL:P3D
CALSCALE:GREGORIAN
BEGIN:VEVENT
DTSTART:20241023T190000Z
DTEND:20241023T210000Z
X-MICROSOFT-CDO-ALLDAYEVENT:FALSE
SUMMARY:WIU 125th Birthday Party
DESCRIPTION:MACOMB\, IL - - Purple will fill the skies and the entire campus is invited to have some fun as Western Illinois University parties like it's 1899 for its 125th birthday celebration.\n\n\n\nThe party will be held 2-4 p.m.\, Monday\, Sept. 23\, in the Alumni Plaza outside the University Union after the Founder's Day celebration.\n\n\n\nThe party will feature inflatables\, free t-shirts\, commemorative swag to celebrate the momentous occasion\, and of course\, birthday cake!\n\n\n\nThe campus community is all invited to attend this event to make WIU's quasquicentennial one to remember.\n\n\n\nFor more information\, contact WIU Marketing at Marketing@wiu.edu.
X-ALT-DESC;FMTTYPE=text/html:MACOMB\, IL - - Purple will fill the skies and the entire campus is invited to have some fun as Western Illinois University parties like it&#39\;s 1899 for its 125th birthday celebration.<br />\n<br />\nThe party will be held 2-4 p.m.\, Monday\, Sept. 23\, in the Alumni Plaza outside the University Union after the Founder&#39\;s Day celebration.<br />\n<br />\nThe party will feature inflatables\, free t-shirts\, commemorative swag to celebrate the momentous occasion\, and of course\, birthday cake!<br />\n<br />\nThe campus community is all invited to attend this event to make WIU&#39\;s quasquicentennial one to remember.<br />\n<br />\nFor more information\, contact WIU Marketing at Marketing@wiu.edu.
LOCATION:
UID:e.2125.15973
SEQUENCE:3
DTSTAMP:20260422T054749Z
URL:https://business.macombareachamber.com/events/details/wiu-125th-birthday-party-15973
END:VEVENT

END:VCALENDAR
