BEGIN:VCALENDAR
VERSION:2.0
PRODID:-//ChamberMaster//Event Calendar 2.0//EN
METHOD:PUBLISH
X-PUBLISHED-TTL:P3D
REFRESH-INTERVAL:P3D
CALSCALE:GREGORIAN
BEGIN:VEVENT
DTSTART:20240718T223000Z
DTEND:20240719T003000Z
X-MICROSOFT-CDO-ALLDAYEVENT:FALSE
SUMMARY:Wine & Wax
DESCRIPTION:Record Night
X-ALT-DESC;FMTTYPE=text/html:Record Night
LOCATION:The Wine Sellers - 121 S Randolph St\, Macomb\, IL 61455
UID:e.2125.15429
SEQUENCE:3
DTSTAMP:20260423T041011Z
URL:https://business.macombareachamber.com/events/details/wine-wax-15429
END:VEVENT

END:VCALENDAR
