BEGIN:VCALENDAR
VERSION:2.0
PRODID:-//ChamberMaster//Event Calendar 2.0//EN
METHOD:PUBLISH
X-PUBLISHED-TTL:P3D
REFRESH-INTERVAL:P3D
CALSCALE:GREGORIAN
BEGIN:VEVENT
DTSTART:20240912T223000Z
DTEND:20240912T233000Z
X-MICROSOFT-CDO-ALLDAYEVENT:FALSE
SUMMARY:William H. Thorpe Memorial Park Community Conversation
DESCRIPTION:The Western Illinois Museum\, in partnership with the City of Macomb\, invites the public to a Community Conversation celebrating the life and legacy of William H. Thorpe\, Macomb's first Black police officer. The event will take place on Thursday\, September 12th\, from 5:30 to 6:30 p.m. at the Western Illinois Museum. This one-hour program is open to everyone\, and refreshments will be served. The museum is fully accessible and offers free parking.\n\n\n\nThe Community Conversation will explore the challenges William Thorpe faced as a Black man in rural Illinois and how these experiences shaped his career\, efforts to bring about change\, and personal perspective. Mayor Mike Inman will lead a dialogue featuring Thorpe's family\, colleagues\, and friends including Helen Thorpe\, Carl Thorpe\, Gregg Huston\, Pam Huston\, O.J. Clark\, Allen Henderson\, and Jeff Hamer. Attendees are encouraged to share their memories and experiences during the discussion.\n\n\n\nThe event will also provide a preview of the upcoming Story Walk project\, which will be installed in William H. Thorpe Memorial Park. Guests will have a unique opportunity to learn more about\n\nMr. Thorpe and explore the creative plans and vision behind this tribute to his service to Macomb.\n\n\n\nThis program is partially funded by a grant from Illinois Humanities.\n\nFor more details\, please contact the Western Illinois Museum at 309-837-2750\, text at 309-837-2613\, or email at info@wimuseum.org. See less
X-ALT-DESC;FMTTYPE=text/html:The Western Illinois Museum\, in partnership with the City of Macomb\, invites the public to a Community Conversation celebrating the life and legacy of William H. Thorpe\, Macomb&rsquo\;s first Black police officer. The event will take place on Thursday\, September 12th\, from 5:30 to 6:30 p.m. at the Western Illinois Museum. This one-hour program is open to everyone\, and refreshments will be served. The museum is fully accessible and offers free parking.<br />\n<br />\nThe Community Conversation will explore the challenges William Thorpe faced as a Black man in rural Illinois and how these experiences shaped his career\, efforts to bring about change\, and personal perspective. Mayor Mike Inman will lead a dialogue featuring Thorpe&rsquo\;s family\, colleagues\, and friends including Helen Thorpe\, Carl Thorpe\, Gregg Huston\, Pam Huston\, O.J. Clark\, Allen Henderson\, and Jeff Hamer. Attendees are encouraged to share their memories and experiences during the discussion.<br />\n<br />\nThe event will also provide a preview of the upcoming Story Walk project\, which will be installed in William H. Thorpe Memorial Park. Guests will have a unique opportunity to learn more about<br />\nMr. Thorpe and explore the creative plans and vision behind this tribute to his service to Macomb.<br />\n<br />\nThis program is partially funded by a grant from Illinois Humanities.<br />\nFor more details\, please contact the Western Illinois Museum at 309-837-2750\, text at 309-837-2613\, or email at info@wimuseum.org. See less
LOCATION:Western Illinois Museum 201 S. Lafayette St Macomb\, IL
UID:e.2125.15940
SEQUENCE:3
DTSTAMP:20260422T075559Z
URL:https://business.macombareachamber.com/events/details/william-h-thorpe-memorial-park-community-conversation-15940
END:VEVENT

END:VCALENDAR
