BEGIN:VCALENDAR
VERSION:2.0
PRODID:-//ChamberMaster//Event Calendar 2.0//EN
METHOD:PUBLISH
X-PUBLISHED-TTL:P3D
REFRESH-INTERVAL:P3D
CALSCALE:GREGORIAN
BEGIN:VEVENT
DTSTART:20240709T190000Z
DTEND:20240709T200000Z
X-MICROSOFT-CDO-ALLDAYEVENT:FALSE
SUMMARY:WIC Breastfeeding 101 Class
DESCRIPTION:WIC Breastfeeding 101 Class. WIC is providing a breastfeeding 101 course to learn the basics about breastfeeding to those enrolled in the program. The class will be hosted by the Breastfeeding Peer Counselor\, Katarina.
X-ALT-DESC;FMTTYPE=text/html:WIC Breastfeeding 101 Class. WIC is providing a breastfeeding 101 course to learn the basics about breastfeeding to those enrolled in the program. The class will be hosted by the Breastfeeding Peer Counselor\, Katarina.&nbsp\;
LOCATION:McDonough County Health Department 505 E. Jackson St. - Macomb\, IL
UID:e.2125.14500
SEQUENCE:3
DTSTAMP:20260423T013525Z
URL:https://business.macombareachamber.com/events/details/wic-breastfeeding-101-class-14500
END:VEVENT

END:VCALENDAR
