BEGIN:VCALENDAR
VERSION:2.0
PRODID:-//ChamberMaster//Event Calendar 2.0//EN
METHOD:PUBLISH
X-PUBLISHED-TTL:P3D
REFRESH-INTERVAL:P3D
CALSCALE:GREGORIAN
BEGIN:VEVENT
DTSTART;VALUE=DATE:20250424
DTEND;VALUE=DATE:20250425
TRANSP:TRANSPARENT
X-MICROSOFT-CDO-ALLDAYEVENT:TRUE
SUMMARY:Western Challenge Day of Giving
DESCRIPTION:THE WESTERN CHALLENGE\n\nDAY OF GIVING\n\n4.24.2025\n\nPURPLE and GOLD DAY\n\n\n\nJoin Western Illinois University and your Alumni Association for Purple & Gold Day and The Western Challenge!\n\n\n\nPurple and Gold Day Alumni & Friends Breakfast (Complimentary)\n\nThursday\, April 24\, 7:30 - 9:00 a.m.\n\nAlumni House\n\n1009 W. Adams St.\, Macomb\, IL\n\n\n\nMacomb Purple & Gold Day Social\n\nThursday\, April 24\, 4:30-7 p.m.\n\nSports Corner @124\n\n124 N. Randolph St.\, Macomb\, IL\n\n\n\nDon't forget to wear your Purple and Gold!\n\n\n\nComplimentary appetizers while they last and cash bar (pay by cash or credit).\n\nAll guests will receive a free ticket for door prize drawings.\n\n\n\nThe Western Challenge\, an energized 24-hour online fundraising event to support the WIU students\, faculty\, and campus programs. It's a day for Leathernecks everywhere to unite in giving to support the departments\, scholarships\, and causes most meaningful to us at Western Illinois University.\n\n\n\nGive Purple. Give Gold. Give Back.\n\n\n\nWhen the Leatherneck community unites\, there is no limit to what we can achieve for our students.\n\n\n\nFor more information\, visit wiu.edu/westernchallenge or call (309) 298-1874.
X-ALT-DESC;FMTTYPE=text/html:THE WESTERN CHALLENGE<br />\nDAY OF GIVING<br />\n4.24.2025<br />\nPURPLE and GOLD DAY<br />\n<br />\nJoin Western Illinois University and your Alumni Association for Purple &amp\; Gold Day and The Western Challenge!<br />\n<br />\nPurple and Gold Day Alumni &amp\; Friends Breakfast (Complimentary)<br />\nThursday\, April 24\, 7:30 - 9:00 a.m.<br />\nAlumni House<br />\n1009 W. Adams St.\, Macomb\, IL<br />\n<br />\nMacomb Purple &amp\; Gold Day Social<br />\nThursday\, April 24\, 4:30-7 p.m.<br />\nSports Corner @124<br />\n124 N. Randolph St.\, Macomb\, IL<br />\n<br />\nDon&rsquo\;t forget to wear your Purple and Gold!<br />\n<br />\nComplimentary appetizers while they last and cash bar (pay by cash or credit).<br />\nAll guests will receive a free ticket for door prize drawings.<br />\n<br />\nThe Western Challenge\, an energized 24-hour online fundraising event to support the WIU students\, faculty\, and campus programs. It&rsquo\;s a day for Leathernecks everywhere to unite in giving to support the departments\, scholarships\, and causes most meaningful to us at Western Illinois University.<br />\n<br />\nGive Purple. Give Gold. Give Back.<br />\n<br />\nWhen the Leatherneck community unites\, there is no limit to what we can achieve for our students.<br />\n<br />\nFor more information\, visit wiu.edu/westernchallenge or call (309) 298-1874.
LOCATION:
UID:e.2125.18821
SEQUENCE:3
DTSTAMP:20260420T113623Z
URL:https://business.macombareachamber.com/events/details/western-challenge-day-of-giving-18821
END:VEVENT

END:VCALENDAR
