BEGIN:VCALENDAR
VERSION:2.0
PRODID:-//ChamberMaster//Event Calendar 2.0//EN
METHOD:PUBLISH
X-PUBLISHED-TTL:P3D
REFRESH-INTERVAL:P3D
CALSCALE:GREGORIAN
BEGIN:VEVENT
DTSTART:20220910T130000Z
DTEND:20220910T170000Z
X-MICROSOFT-CDO-ALLDAYEVENT:FALSE
SUMMARY:Wesley United Methodist Church Rummage Sale
DESCRIPTION:Wesley United Methodist Church\n\nRummage Sale\n\nSomething for Everyone\n\nUpper Level\n\nSaturday Fill a bag for $2
X-ALT-DESC;FMTTYPE=text/html:Wesley United Methodist Church<br />\nRummage Sale<br />\nSomething for Everyone<br />\nUpper Level<br />\nSaturday Fill a bag for $2
LOCATION:1212 W. Calhoun St. Macomb\, IL 61455
UID:e.2125.10253
SEQUENCE:3
DTSTAMP:20260423T103834Z
URL:https://business.macombareachamber.com/events/details/wesley-united-methodist-church-rummage-sale-10253
END:VEVENT

END:VCALENDAR
