BEGIN:VCALENDAR
VERSION:2.0
PRODID:-//ChamberMaster//Event Calendar 2.0//EN
METHOD:PUBLISH
X-PUBLISHED-TTL:P3D
REFRESH-INTERVAL:P3D
CALSCALE:GREGORIAN
BEGIN:VEVENT
DTSTART:20250531T140000Z
DTEND:20250531T160000Z
X-MICROSOFT-CDO-ALLDAYEVENT:FALSE
SUMMARY:Wellness Walk
DESCRIPTION:Wellness Walk. The Conservation Tour invites you out for a gentle walk at Wigwam Hollow Bird Sanctuary to experience the many health benefits of outdoor spaces.
X-ALT-DESC;FMTTYPE=text/html:Wellness Walk. The Conservation Tour invites you out for a gentle walk at Wigwam Hollow Bird Sanctuary to experience the many health benefits of outdoor spaces.&nbsp\;
LOCATION:
UID:e.2125.19251
SEQUENCE:3
DTSTAMP:20260420T082501Z
URL:https://business.macombareachamber.com/events/details/wellness-walk-19251
END:VEVENT

END:VCALENDAR
