BEGIN:VCALENDAR
VERSION:2.0
PRODID:-//ChamberMaster//Event Calendar 2.0//EN
METHOD:PUBLISH
X-PUBLISHED-TTL:P3D
REFRESH-INTERVAL:P3D
CALSCALE:GREGORIAN
BEGIN:VEVENT
DTSTART:20230728T160000Z
DTEND:20230728T200000Z
X-MICROSOFT-CDO-ALLDAYEVENT:FALSE
SUMMARY:Welcome Back to WIU Party
DESCRIPTION:A welcome back event will be hosted on Friday July 28 from 11 am   3 pm in front of our leasing office located at 902 N Charles St.  We are going to have food\, bag tournaments\, and music. Best part of all will be the specials.  If someone signs a lease at that time they will get 1 free month and with a 2 year lease they get 2 free months. If they play ANY sports at WIU they will ALSO get a $300 Amazon gift card. We will also be having a drawing for a $500 Amazon card for anyone who signs a lease during the event.
X-ALT-DESC;FMTTYPE=text/html:A welcome back event will be hosted on Friday July 28 from 11 am &ndash\; 3 pm in front of our leasing office located at 902 N Charles St.&nbsp\; We are going to have food\, bag tournaments\, and music. Best part of all will be the specials.&nbsp\; If someone signs a lease at that time they will get 1 free month and with a 2 year lease they get 2 free months. If they play ANY sports at WIU they will ALSO get a $300 Amazon gift card. We will also be having a drawing for a $500 Amazon card for anyone who signs a lease during the event.&nbsp\;
LOCATION:Lexington Concord Apartments 902 N. Charles St. Macomb\, Illinois
UID:e.2125.13615
SEQUENCE:3
DTSTAMP:20260423T175825Z
URL:https://business.macombareachamber.com/events/details/welcome-back-to-wiu-party-13615
END:VEVENT

END:VCALENDAR
