BEGIN:VCALENDAR
VERSION:2.0
PRODID:-//ChamberMaster//Event Calendar 2.0//EN
METHOD:PUBLISH
X-PUBLISHED-TTL:P3D
REFRESH-INTERVAL:P3D
CALSCALE:GREGORIAN
BEGIN:VEVENT
DTSTART;VALUE=DATE:20240417
DTEND;VALUE=DATE:20240418
TRANSP:TRANSPARENT
X-MICROSOFT-CDO-ALLDAYEVENT:TRUE
SUMMARY:Un"Wine'd with the Birds Nest Knit & More
DESCRIPTION:Un"Wine"d with The Birds Nest Knit & More\n\nWednesday\, April 17 - 5:30 pm\n\nJoin us for an evening of knit/crochet/needlework. Enjoy each others company while working on your unfinished project.
X-ALT-DESC;FMTTYPE=text/html:Un&quot\;Wine&quot\;d with The Birds Nest Knit &amp\; More<br />\nWednesday\, April 17 - 5:30 pm<br />\nJoin us for an evening of knit/crochet/needlework. Enjoy each others company while working on your unfinished project.
LOCATION:The Wine Sellers - 121 S Randolph St\, Macomb\, IL 61455
UID:e.2125.14787
SEQUENCE:3
DTSTAMP:20260423T103532Z
URL:https://business.macombareachamber.com/events/details/un-wine-d-with-the-birds-nest-knit-more-14787
END:VEVENT

END:VCALENDAR
