BEGIN:VCALENDAR
VERSION:2.0
PRODID:-//ChamberMaster//Event Calendar 2.0//EN
METHOD:PUBLISH
X-PUBLISHED-TTL:P3D
REFRESH-INTERVAL:P3D
CALSCALE:GREGORIAN
BEGIN:VEVENT
DTSTART;VALUE=DATE:20231006
DTEND;VALUE=DATE:20231007
TRANSP:TRANSPARENT
X-MICROSOFT-CDO-ALLDAYEVENT:TRUE
SUMMARY:Twitty & Lynn: A Salute to Conway & Loretta
DESCRIPTION:Twitty & Lynn\n\n\n\nA Salute to Conway & Loretta\n\n10/6.  7pm\n\n\n\n \n\n\n\nThere's a moment right at the very beginning of any Twitty & Lynn show that affords country music fans the chance to look back in time.  Just after the band has played the signature intro to "Louisiana Woman\, Mississippi Man\," Tre Twitty and Tayla Lynn shoot eachother a glance that summons the electrifying chemistry of their grandparents: Tre is the grandson of Conway Twitty\, Tayla is the granddaughter of Loretta Lynn.  Audiences can't believe their eyes. From that moment\, for the next 90 minutes\, they're in the presence of living country music history. They are on stage celebrating country music\, the lost art of duet singing\, and the two beloved icons they refer to as "Poppy" and "Memaw."  "I think of us as the ambassadors of the Twitty and Lynn names we're just the new version of what they've already established\," Tre says."But we also want to be caretakers of the past.  Loretta herself was impressed. The Country Music Hall of Fame member helped her granddaughter and Tre with their show and had the same time-traveling experience that today's audiences do while watching them perform.  "Memaw just loved it.  It brought up so many memories of Conway for her and took her back to a place in her life when they were building their careers.
X-ALT-DESC;FMTTYPE=text/html:Twitty &amp\; Lynn<br />\n<br />\nA Salute to Conway &amp\; Loretta<br />\n10/6.&nbsp\; 7pm<br />\n<br />\n&#8203\;<br />\n<br />\nThere&rsquo\;s a moment right at the very beginning of any Twitty &amp\; Lynn show that affords country music fans the chance to look back in time.&nbsp\; Just after the band has played the signature intro to &ldquo\;Louisiana Woman\, Mississippi Man\,&rdquo\; Tre Twitty and Tayla Lynn shoot eachother a glance that summons the electrifying chemistry of their grandparents: Tre is the grandson of Conway Twitty\, Tayla is the granddaughter of Loretta Lynn.&nbsp\; Audiences can&rsquo\;t believe their eyes. From that moment\, for the next 90 minutes\, they&rsquo\;re in the presence of living country music history. They are on stage celebrating country music\, the lost art of duet singing\, and the two beloved icons they refer to as &ldquo\;Poppy&rdquo\; and &ldquo\;Memaw.&rdquo\;&nbsp\; &ldquo\;I think of us as the ambassadors of the Twitty and Lynn names&mdash\;we&rsquo\;re just the new version of what they&rsquo\;ve already established\,&rdquo\; Tre says.&ldquo\;But we also want to be caretakers of the past.&nbsp\; Loretta herself was impressed. The Country Music Hall of Fame member helped her granddaughter and Tre with their show and had the same time-traveling experience that today&rsquo\;s audiences do while watching them perform.&nbsp\; &ldquo\;Memaw just loved it.&nbsp\; It brought up so many memories of Conway for her and took her back to a place in her life when they were building their careers.
LOCATION:The Legacy Theater - 1160 Buchanan Street - Carthage\, IL
UID:e.2125.13783
SEQUENCE:3
DTSTAMP:20260422T123824Z
URL:https://business.macombareachamber.com/events/details/twitty-lynn-a-salute-to-conway-loretta-13783
END:VEVENT

END:VCALENDAR
