BEGIN:VCALENDAR
VERSION:2.0
PRODID:-//ChamberMaster//Event Calendar 2.0//EN
METHOD:PUBLISH
X-PUBLISHED-TTL:P3D
REFRESH-INTERVAL:P3D
CALSCALE:GREGORIAN
BEGIN:VEVENT
DTSTART:20231029T180000Z
DTEND:20231029T200000Z
X-MICROSOFT-CDO-ALLDAYEVENT:FALSE
SUMMARY:Trunk or Treat
DESCRIPTION:Trunk or Treat. Rain or shine. Must be in costume to participate.
X-ALT-DESC;FMTTYPE=text/html:Trunk or Treat. Rain or shine. Must be in costume to participate.&nbsp\;
LOCATION:VFW Post 1921 Auxiliary 1200 E. Jefferson St. Macomb\, Illinois
UID:e.2125.14110
SEQUENCE:3
DTSTAMP:20260422T122130Z
URL:https://business.macombareachamber.com/events/details/trunk-or-treat-14110
END:VEVENT

END:VCALENDAR
