BEGIN:VCALENDAR
VERSION:2.0
PRODID:-//ChamberMaster//Event Calendar 2.0//EN
METHOD:PUBLISH
X-PUBLISHED-TTL:P3D
REFRESH-INTERVAL:P3D
CALSCALE:GREGORIAN
BEGIN:VEVENT
DTSTART:20231025T200000Z
DTEND:20231025T230000Z
X-MICROSOFT-CDO-ALLDAYEVENT:FALSE
SUMMARY:Trunk or Treat
DESCRIPTION:A trunk or treat event at Bickford of Macomb.
X-ALT-DESC;FMTTYPE=text/html:A trunk or treat event at Bickford of Macomb.&nbsp\;
LOCATION:Bickford of Macomb 1600 Maple Avenue Macomb\, Illinois
UID:e.2125.14071
SEQUENCE:3
DTSTAMP:20260422T122246Z
URL:https://business.macombareachamber.com/events/details/trunk-or-treat-14071
END:VEVENT

END:VCALENDAR
