BEGIN:VCALENDAR
VERSION:2.0
PRODID:-//ChamberMaster//Event Calendar 2.0//EN
METHOD:PUBLISH
X-PUBLISHED-TTL:P3D
REFRESH-INTERVAL:P3D
CALSCALE:GREGORIAN
BEGIN:VEVENT
DTSTART:20231029T190000Z
DTEND:20231029T220000Z
X-MICROSOFT-CDO-ALLDAYEVENT:FALSE
SUMMARY:Trunk or Treat
DESCRIPTION:Trunk or Treat with candies\, Best Trunk Contest\, grames.
X-ALT-DESC;FMTTYPE=text/html:Trunk or Treat with candies\, Best Trunk Contest\, grames.&nbsp\;
LOCATION:Clean Restoration 3120 N. 12th Street Quincy\, Illinois
UID:e.2125.13746
SEQUENCE:3
DTSTAMP:20260422T135810Z
URL:https://business.macombareachamber.com/events/details/trunk-or-treat-13746
END:VEVENT

END:VCALENDAR
