BEGIN:VCALENDAR
VERSION:2.0
PRODID:-//ChamberMaster//Event Calendar 2.0//EN
METHOD:PUBLISH
X-PUBLISHED-TTL:P3D
REFRESH-INTERVAL:P3D
CALSCALE:GREGORIAN
BEGIN:VEVENT
DTSTART:20231027T220000Z
DTEND:20231028T000000Z
X-MICROSOFT-CDO-ALLDAYEVENT:FALSE
SUMMARY:Trunk or Treat!
DESCRIPTION:Enjoy the Halloween season by trunk-or-treating throughout our Kunes Auto Group of Macomb lot and showroom! This is a complimentary\, safe\, family-friendly event!\n\nCostume dress is encouraged. Bring a bucket or bag to collect your goodies!\n\nOur Kunes team can't wait have your kiddos walk from car to car collecting candy and trinkets and seeing the cool decorated cars!
X-ALT-DESC;FMTTYPE=text/html:Enjoy the Halloween season by trunk-or-treating throughout our Kunes Auto Group of Macomb lot and showroom! This is a complimentary\, safe\, family-friendly event!<br />\nCostume dress is encouraged. Bring a bucket or bag to collect your goodies!<br />\nOur Kunes team can&#39\;t wait have your kiddos walk from car to car collecting candy and trinkets and seeing the cool decorated cars!
LOCATION:Kunes Auto Group - 3200 E. Jackson Street
UID:e.2125.14016
SEQUENCE:3
DTSTAMP:20260422T140359Z
URL:https://business.macombareachamber.com/events/details/trunk-or-treat-10-27-2023-14016
END:VEVENT

END:VCALENDAR
