BEGIN:VCALENDAR
VERSION:2.0
PRODID:-//ChamberMaster//Event Calendar 2.0//EN
METHOD:PUBLISH
X-PUBLISHED-TTL:P3D
REFRESH-INTERVAL:P3D
CALSCALE:GREGORIAN
BEGIN:VEVENT
DTSTART:20241031T223000Z
DTEND:20241101T000000Z
X-MICROSOFT-CDO-ALLDAYEVENT:FALSE
SUMMARY:Trick or Treat with the Elms
DESCRIPTION:The Elms would like to invite you to trick or treat with our residents. Come to the Elms and put smiles on our residents faces. Residents will be handing out candy in a safe environment.
X-ALT-DESC;FMTTYPE=text/html:The Elms would like to invite you to trick or treat with our residents. Come to the Elms and put smiles on our residents faces. Residents will be handing out candy in a safe environment.&nbsp\;
LOCATION:The Elms 1212 Madelyn Avenue Macomb\, Illinois
UID:e.2125.16080
SEQUENCE:3
DTSTAMP:20260422T091607Z
URL:https://business.macombareachamber.com/events/details/trick-or-treat-with-the-elms-16080
END:VEVENT

END:VCALENDAR
