BEGIN:VCALENDAR
VERSION:2.0
PRODID:-//ChamberMaster//Event Calendar 2.0//EN
METHOD:PUBLISH
X-PUBLISHED-TTL:P3D
REFRESH-INTERVAL:P3D
CALSCALE:GREGORIAN
BEGIN:VEVENT
DTSTART:20231028T150000Z
DTEND:20231028T180000Z
X-MICROSOFT-CDO-ALLDAYEVENT:FALSE
SUMMARY:Trick or Treat with Hy-Vee
DESCRIPTION:Calling all little ghouls & goblins to your Macomb Hy-Vee for a Halloween celebration! Join us for trick or treating throughout the store\, mini pumpkin decorating\, cookie decorating\, and coloring pages. Join us for fun the whole family will enjoy and don't forget your costume!
X-ALT-DESC;FMTTYPE=text/html:Calling all little ghouls &amp\; goblins to your Macomb Hy-Vee for a Halloween celebration! Join us for trick or treating throughout the store\, mini pumpkin decorating\, cookie decorating\, and coloring pages. Join us for fun the whole family will enjoy and don&#39\;t forget your costume!&nbsp\;
LOCATION:Hy-Vee 1600 E. Jackson Street Macomb\, Illinois
UID:e.2125.14078
SEQUENCE:3
DTSTAMP:20260422T122726Z
URL:https://business.macombareachamber.com/events/details/trick-or-treat-with-hy-vee-14078
END:VEVENT

END:VCALENDAR
