BEGIN:VCALENDAR
VERSION:2.0
PRODID:-//ChamberMaster//Event Calendar 2.0//EN
METHOD:PUBLISH
X-PUBLISHED-TTL:P3D
REFRESH-INTERVAL:P3D
CALSCALE:GREGORIAN
BEGIN:VEVENT
DTSTART:20231031T210000Z
DTEND:20231101T000000Z
X-MICROSOFT-CDO-ALLDAYEVENT:FALSE
SUMMARY:Trick or Treat @ The Small Towner
DESCRIPTION:Trick or treat activities and Halloween photo booth for your littles. Free and open to the public.
X-ALT-DESC;FMTTYPE=text/html:Trick or treat activities and Halloween photo booth for your littles. Free and open to the public.&nbsp\;
LOCATION:The Small Towner 6 W. Side Square Macomb\, IL
UID:e.2125.14070
SEQUENCE:3
DTSTAMP:20260422T122706Z
URL:https://business.macombareachamber.com/events/details/trick-or-treat-the-small-towner-14070
END:VEVENT

END:VCALENDAR
