BEGIN:VCALENDAR
VERSION:2.0
PRODID:-//ChamberMaster//Event Calendar 2.0//EN
METHOD:PUBLISH
X-PUBLISHED-TTL:P3D
REFRESH-INTERVAL:P3D
CALSCALE:GREGORIAN
BEGIN:VEVENT
DTSTART:20231030T213000Z
DTEND:20231030T233000Z
X-MICROSOFT-CDO-ALLDAYEVENT:FALSE
SUMMARY:Trick or Treat Night
DESCRIPTION:Wesley Village is having a trick or treat night on October 30 from 4:30-6:30 pm. Residents will line up around the lobby and in the lounge to pass out candy! Candy will be provided. Please join us!
X-ALT-DESC;FMTTYPE=text/html:Wesley Village is having a trick or treat night on October 30 from 4:30-6:30 pm. Residents will line up around the lobby and in the lounge to pass out candy! Candy will be provided. Please join us!
LOCATION:Wesley Village 1200 E. Grant Street Macomb\, Illinois
UID:e.2125.14066
SEQUENCE:3
DTSTAMP:20260422T122307Z
URL:https://business.macombareachamber.com/events/details/trick-or-treat-night-14066
END:VEVENT

END:VCALENDAR
