BEGIN:VCALENDAR
VERSION:2.0
PRODID:-//ChamberMaster//Event Calendar 2.0//EN
METHOD:PUBLISH
X-PUBLISHED-TTL:P3D
REFRESH-INTERVAL:P3D
CALSCALE:GREGORIAN
BEGIN:VEVENT
DTSTART:20241027T213000Z
DTEND:20241027T230000Z
X-MICROSOFT-CDO-ALLDAYEVENT:FALSE
SUMMARY:Trick or Treat at NTN Bower
DESCRIPTION:Come Trunk or Treat with NTN-Bower!   This is an outside only event located in our Plant 2 parking lot. Look for the signs by the road! This is a family friendly event so come dressed in your Halloween best! We can't wait to see everyone!   (The event is scheduled until 6pm or until we run out of candy!)
X-ALT-DESC;FMTTYPE=text/html:Come Trunk or Treat with NTN-Bower! &#127875\; This is an outside only event located in our Plant 2 parking lot. Look for the signs by the road! This is a family friendly event so come dressed in your Halloween best! We can&#39\;t wait to see everyone! &#128123\; (The event is scheduled until 6pm or until we run out of candy!)&nbsp\;
LOCATION:711 N. Bower Road Macomb\, IL
UID:e.2125.16096
SEQUENCE:3
DTSTAMP:20260422T061335Z
URL:https://business.macombareachamber.com/events/details/trick-or-treat-at-ntn-bower-16096
END:VEVENT

END:VCALENDAR
