BEGIN:VCALENDAR
VERSION:2.0
PRODID:-//ChamberMaster//Event Calendar 2.0//EN
METHOD:PUBLISH
X-PUBLISHED-TTL:P3D
REFRESH-INTERVAL:P3D
CALSCALE:GREGORIAN
BEGIN:VEVENT
DTSTART:20241030T223000Z
DTEND:20241031T003000Z
X-MICROSOFT-CDO-ALLDAYEVENT:FALSE
SUMMARY:Trick or Treat at Everly House
DESCRIPTION:Join us for a night of safe trick or treat.
X-ALT-DESC;FMTTYPE=text/html:Join us for a night of safe trick or treat.
LOCATION:Everly House 811 S. Lafayette St. Macomb\, IL
UID:e.2125.16039
SEQUENCE:3
DTSTAMP:20260422T093445Z
URL:https://business.macombareachamber.com/events/details/trick-or-treat-at-everly-house-16039
END:VEVENT

END:VCALENDAR
