BEGIN:VCALENDAR
VERSION:2.0
PRODID:-//ChamberMaster//Event Calendar 2.0//EN
METHOD:PUBLISH
X-PUBLISHED-TTL:P3D
REFRESH-INTERVAL:P3D
CALSCALE:GREGORIAN
BEGIN:VEVENT
DTSTART:20230401T210000Z
DTEND:20230402T010000Z
X-MICROSOFT-CDO-ALLDAYEVENT:FALSE
SUMMARY:Tri-Hop Pancake Dinner Open House
DESCRIPTION:Pancake dinner open house. In benefit of Tri Sigma Foundation.
X-ALT-DESC;FMTTYPE=text/html:Pancake dinner open house. In benefit of Tri Sigma Foundation.&nbsp\;
LOCATION:Western Illinois University - Macomb Campus Sigma House - 626 W. Murray Street
UID:e.2125.12778
SEQUENCE:3
DTSTAMP:20260423T221546Z
URL:https://business.macombareachamber.com/events/details/tri-hop-pancake-dinner-open-house-12778
END:VEVENT

END:VCALENDAR
