BEGIN:VCALENDAR
VERSION:2.0
PRODID:-//ChamberMaster//Event Calendar 2.0//EN
METHOD:PUBLISH
X-PUBLISHED-TTL:P3D
REFRESH-INTERVAL:P3D
CALSCALE:GREGORIAN
BEGIN:VEVENT
DTSTART:20230801T180000Z
DTEND:20230803T193000Z
X-MICROSOFT-CDO-ALLDAYEVENT:FALSE
SUMMARY:Trekking the US!
DESCRIPTION:Explore food\, traditions\, history\, adventure and more from the East Coast to the Wild West to Down South and the Great Northern States. Ages 6+. $45 Members/$50 Nonmembers
X-ALT-DESC;FMTTYPE=text/html:Explore food\, traditions\, history\, adventure and more from the East Coast to the Wild West to Down South and the Great Northern States. Ages 6+. $45 Members/$50 Nonmembers
LOCATION:Discovery Depot Children's Museum 128 S Chambers St Galesburg\, IL 61401
UID:e.2125.13365
SEQUENCE:3
DTSTAMP:20260423T163007Z
URL:https://business.macombareachamber.com/events/details/trekking-the-us-13365
END:VEVENT

END:VCALENDAR
