BEGIN:VCALENDAR
VERSION:2.0
PRODID:-//ChamberMaster//Event Calendar 2.0//EN
METHOD:PUBLISH
X-PUBLISHED-TTL:P3D
REFRESH-INTERVAL:P3D
CALSCALE:GREGORIAN
BEGIN:VEVENT
DTSTART;VALUE=DATE:20231113
DTEND;VALUE=DATE:20231214
TRANSP:TRANSPARENT
X-MICROSOFT-CDO-ALLDAYEVENT:TRUE
SUMMARY:Toys for Tots Toy Drive
DESCRIPTION:This holiday season we are teaming up with Toys for Tots to bring smiles to children in need. We will be collecting new\, unwrapped toys from now through December 13th at our office. Please don't hesitate to reach out if you have any questions. Let's make this a magical Christmas for every child!
X-ALT-DESC;FMTTYPE=text/html:This holiday season we are teaming up with Toys for Tots to bring smiles to children in need. We will be collecting new\, unwrapped toys from now through December 13th at our office. Please don&#39\;t hesitate to reach out if you have any questions. Let&#39\;s make this a magical Christmas for every child!
LOCATION:Edward Jones - Financial Advisor: Seth Minter 325 S. Candy Lane Macomb\, Illinois
UID:e.2125.14136
SEQUENCE:3
DTSTAMP:20260422T141126Z
URL:https://business.macombareachamber.com/events/details/toys-for-tots-toy-drive-14136
END:VEVENT

END:VCALENDAR
