BEGIN:VCALENDAR
VERSION:2.0
PRODID:-//ChamberMaster//Event Calendar 2.0//EN
METHOD:PUBLISH
X-PUBLISHED-TTL:P3D
REFRESH-INTERVAL:P3D
CALSCALE:GREGORIAN
BEGIN:VEVENT
DTSTART:20241003T223000Z
DTEND:20241004T003000Z
X-MICROSOFT-CDO-ALLDAYEVENT:FALSE
SUMMARY:Town & Gown 2024 and Rocky on Parade Unveiling
DESCRIPTION:All Alumni & Friends and community members are invited to join WIU Interim President Kristi Mindrup and Macomb Mayor Mike Inman at our signature University and Community event to celebrate all that has been accomplished over the last year for the WIU & Macomb communities. The 2024 Town & Gown and Honorary Alumni Awards will be presented during the program. Rocky on Parade dogs will also be unveiled! Join us anytime between 5:30 - 7:30 p.m. Program & Rocky on Parade Unveiling - 6:15 p.m.
X-ALT-DESC;FMTTYPE=text/html:All Alumni &amp\; Friends and community members are invited to join WIU Interim President Kristi Mindrup and Macomb Mayor Mike Inman at our signature University and Community event to celebrate all that has been accomplished over the last year for the WIU &amp\; Macomb communities. The 2024 Town &amp\; Gown and Honorary Alumni Awards will be presented during the program. Rocky on Parade dogs will also be unveiled! Join us anytime between 5:30 - 7:30 p.m. Program &amp\; Rocky on Parade Unveiling - 6:15 p.m.
LOCATION:Park Place 127 E. Carroll St. Macomb\, IL 61455
UID:e.2125.16013
SEQUENCE:3
DTSTAMP:20260422T055859Z
URL:https://business.macombareachamber.com/events/details/town-gown-2024-and-rocky-on-parade-unveiling-16013
END:VEVENT

END:VCALENDAR
