BEGIN:VCALENDAR
VERSION:2.0
PRODID:-//ChamberMaster//Event Calendar 2.0//EN
METHOD:PUBLISH
X-PUBLISHED-TTL:P3D
REFRESH-INTERVAL:P3D
CALSCALE:GREGORIAN
BEGIN:VEVENT
DTSTART:20231005T223000Z
DTEND:20231006T003000Z
X-MICROSOFT-CDO-ALLDAYEVENT:FALSE
SUMMARY:Town and Gown
DESCRIPTION:The 16th annual Celebrating Town & Gown\, the annual signature Western Illinois University and Macomb community event\, will be held from 5:30-7:30 p.m. Thursday\, Oct. 5 at Park Place (formally The Macomb Dining Company)\, with a short program beginning at 6:15 p.m. All Macomb and WIU community members are welcome to attend.\n\nThe 2023 Town & Gown and Honorary Alumni Awards will be presented during the program. Rocky on Parade dogs will also be unveiled! \n\nTo register\, call 309-298-1914\, email A-Association@wiu.edu or register online at wiu.edu/alumni!! #WIUHomecoming
X-ALT-DESC;FMTTYPE=text/html:The 16th annual Celebrating Town &amp\; Gown\, the annual signature Western Illinois University and Macomb community event\, will be held from 5:30-7:30 p.m. Thursday\, Oct. 5 at Park Place (formally The Macomb Dining Company)\, with a short program beginning at 6:15 p.m. All Macomb and WIU community members are welcome to attend.<br />\nThe 2023 Town &amp\; Gown and Honorary Alumni Awards will be presented during the program. Rocky on Parade dogs will also be unveiled!&nbsp\;<br />\nTo register\, call 309-298-1914\, email A-Association@wiu.edu or register online at wiu.edu/alumni!! #WIUHomecoming
LOCATION:Park Place 127 E. Carroll St. Macomb\, IL
UID:e.2125.14014
SEQUENCE:3
DTSTAMP:20260422T122252Z
URL:https://business.macombareachamber.com/events/details/town-and-gown-14014
END:VEVENT

END:VCALENDAR
