BEGIN:VCALENDAR
VERSION:2.0
PRODID:-//ChamberMaster//Event Calendar 2.0//EN
METHOD:PUBLISH
X-PUBLISHED-TTL:P3D
REFRESH-INTERVAL:P3D
CALSCALE:GREGORIAN
BEGIN:VEVENT
DTSTART:20231007T160000Z
DTEND:20231007T190000Z
X-MICROSOFT-CDO-ALLDAYEVENT:FALSE
SUMMARY:Touch A Truck
DESCRIPTION:Touch A Truck is back and bigger than before with additional inflatables and newly featured vehicles!                This FREE event will be a fun day for families to explore and learn about various vehicles in their community! You will get to sit in\, touch\, and ask questions while exploring!\n\nMark your calendars for an exciting opportunity to experience first responder vehicles\, busses\, community vehicles\, and more to come! October 7th - 11am to 2pm\n\n Explore all types of vehicles\n\n Inflatables!\n\n Sensory Friendly Hour 1-2pm\n\n Food trucks will be on-site to purchase lunch and drinks.
X-ALT-DESC;FMTTYPE=text/html:Touch A Truck is back and bigger than before with additional inflatables and newly featured vehicles! &#128660\; &#128658\; &#128668\; &#128643\; &#127950\;&#65039\; &#128666\; &#128657\; This FREE event will be a fun day for families to explore and learn about various vehicles in their community! You will get to sit in\, touch\, and ask questions while exploring!<br />\nMark your calendars for an exciting opportunity to experience first responder vehicles\, busses\, community vehicles\, and more to come! October 7th - 11am to 2pm<br />\n&#128314\;Explore all types of vehicles<br />\n&#128314\;Inflatables!<br />\n&#128314\;Sensory Friendly Hour 1-2pm<br />\n&#128314\;Food trucks will be on-site to purchase lunch and drinks.
LOCATION:Veterans Park - 1800 East University Drive\, Macomb
UID:e.2125.13777
SEQUENCE:3
DTSTAMP:20260422T122246Z
URL:https://business.macombareachamber.com/events/details/touch-a-truck-13777
END:VEVENT

END:VCALENDAR
